BEGIN:VCALENDAR
VERSION:2.0
PRODID:-//5K - ECPv6.15.20//NONSGML v1.0//EN
CALSCALE:GREGORIAN
METHOD:PUBLISH
X-WR-CALNAME:5K
X-ORIGINAL-URL:https://winerun5k.com
X-WR-CALDESC:Events for 5K
REFRESH-INTERVAL;VALUE=DURATION:PT1H
X-Robots-Tag:noindex
X-PUBLISHED-TTL:PT1H
BEGIN:VTIMEZONE
TZID:UTC
BEGIN:STANDARD
TZOFFSETFROM:+0000
TZOFFSETTO:+0000
TZNAME:UTC
DTSTART:20250101T000000
END:STANDARD
END:VTIMEZONE
BEGIN:VEVENT
DTSTART;VALUE=DATE:20260425
DTEND;VALUE=DATE:20260426
DTSTAMP:20260423T171340
CREATED:20260121T214200Z
LAST-MODIFIED:20260121T214200Z
UID:17411-1777075200-1777161599@winerun5k.com
SUMMARY:Stone Villa Wine Run 5k
DESCRIPTION:  \n  \n  \n \n\n\n\n\n\n\n\n\n\n\n\n\n\n\n\n\n\n\n\n\n\nStone Villa Wine Cellars\n1085 Claypike Rd\nAcme\, PA US 15610\nSat April 25\, 2026 | 9:00AM EDT
URL:https://winerun5k.com/event/stone-villa-wine-run-5k-2/
CATEGORIES:Wine Run
ATTACH;FMTTYPE=image/jpeg:https://winerun5k.com/wp-content/uploads/2025/11/Stone-Villa-Wine-Run-5k.jpg
END:VEVENT
BEGIN:VEVENT
DTSTART;VALUE=DATE:20260426
DTEND;VALUE=DATE:20260427
DTSTAMP:20260423T171340
CREATED:20260121T211801Z
LAST-MODIFIED:20260121T211801Z
UID:17412-1777161600-1777247999@winerun5k.com
SUMMARY:Rock N Wool Wine Run 5k
DESCRIPTION:  \n  \n  \n \n\n\n\n\n\n\n\n\n\n\n\n\n\n\n\n\n\n\n\n\n\nRock N Wool Winery\nW7817 Drake Rd\nPoynette\, WI US 53955\nSun April 26\, 2026 | 10:00AM CDT
URL:https://winerun5k.com/event/rock-n-wool-wine-run-5k-2/
CATEGORIES:Wine Run
ATTACH;FMTTYPE=image/jpeg:https://winerun5k.com/wp-content/uploads/2023/02/winerun-5k.jpg
END:VEVENT
BEGIN:VEVENT
DTSTART;VALUE=DATE:20260426
DTEND;VALUE=DATE:20260427
DTSTAMP:20260423T171340
CREATED:20260121T214259Z
LAST-MODIFIED:20260121T214259Z
UID:17410-1777161600-1777247999@winerun5k.com
SUMMARY:Killing Tree Wine Run 5k
DESCRIPTION:  \n  \n  \n \n\n\n\n\n\n\n\n\n\n\n\n\n\n\n\n\n\n\n\n\n\nKilling Tree Winery\n16688 CR-4\nDresden\, OH US 43821\nSun April 26\, 2026 | 10:00AM EDT
URL:https://winerun5k.com/event/killing-tree-wine-run-5k-2/
CATEGORIES:Wine Run
ATTACH;FMTTYPE=image/jpeg:https://winerun5k.com/wp-content/uploads/2025/01/killing-tree.jpeg
END:VEVENT
END:VCALENDAR