BEGIN:VCALENDAR
VERSION:2.0
PRODID:-//5K - ECPv6.15.20//NONSGML v1.0//EN
CALSCALE:GREGORIAN
METHOD:PUBLISH
X-WR-CALNAME:5K
X-ORIGINAL-URL:https://winerun5k.com
X-WR-CALDESC:Events for 5K
REFRESH-INTERVAL;VALUE=DURATION:PT1H
X-Robots-Tag:noindex
X-PUBLISHED-TTL:PT1H
BEGIN:VTIMEZONE
TZID:UTC
BEGIN:STANDARD
TZOFFSETFROM:+0000
TZOFFSETTO:+0000
TZNAME:UTC
DTSTART:20240101T000000
END:STANDARD
END:VTIMEZONE
BEGIN:VEVENT
DTSTART;VALUE=DATE:20251004
DTEND;VALUE=DATE:20251005
DTSTAMP:20260423T231245
CREATED:20250414T134430Z
LAST-MODIFIED:20250414T134430Z
UID:15219-1759536000-1759622399@winerun5k.com
SUMMARY:Philip Carter Haunted Wine Run 5k
DESCRIPTION:  \n  \n  \n \n\n\n\n\n\n\n\n\n\n\n\n\n\n\n\n\n\n\n\nPhilip Carter Winery\n4366 Stillhouse Road\nHume\, VA US 22639\nSat October 4\, 2025 | 10:00AM EDT
URL:https://winerun5k.com/event/philip-carter-haunted-wine-run-5k/
CATEGORIES:Wine Run
ATTACH;FMTTYPE=image/jpeg:https://winerun5k.com/wp-content/uploads/2023/02/Banner-web-192x600-1.jpg
END:VEVENT
BEGIN:VEVENT
DTSTART;VALUE=DATE:20251004
DTEND;VALUE=DATE:20251005
DTSTAMP:20260423T231245
CREATED:20250414T134554Z
LAST-MODIFIED:20250414T134554Z
UID:15221-1759536000-1759622399@winerun5k.com
SUMMARY:Haunted Wine Run 5k at Busse Woods
DESCRIPTION:  \n  \n  \n \n\n\n\n\n\n\n\n\n\n\n\n\n\n\n\n\n\n\n\nBusse Woods\nBusse Forest South Picnic Grove #5\nElk Grove Village\, IL US 60007\nSat October 4\, 2025 | 3:00PM CDT
URL:https://winerun5k.com/event/haunted-wine-run-5k-at-busse-woods/
CATEGORIES:Wine Run
ATTACH;FMTTYPE=image/jpeg:https://winerun5k.com/wp-content/uploads/2023/02/Banner-web-192x600-1.jpg
END:VEVENT
BEGIN:VEVENT
DTSTART;VALUE=DATE:20251004
DTEND;VALUE=DATE:20251005
DTSTAMP:20260423T231245
CREATED:20250414T134706Z
LAST-MODIFIED:20250414T134706Z
UID:15224-1759536000-1759622399@winerun5k.com
SUMMARY:Valley Vineyards Haunted Wine Run 5k
DESCRIPTION:  \n  \n  \n \n\n\n\n\n\n\n\n\n\n\n\n\n\n\n\n\n\n\n\nValley Vineyards Winery & Brewery\n2276 US-22 & 3\nMorrow\, OH US 45152\nSat October 4\, 2025 | 10:00AM EDT
URL:https://winerun5k.com/event/valley-vineyards-haunted-wine-run-5k/
CATEGORIES:Wine Run
ATTACH;FMTTYPE=image/jpeg:https://winerun5k.com/wp-content/uploads/2023/02/Banner-web-192x600-1.jpg
END:VEVENT
BEGIN:VEVENT
DTSTART;VALUE=DATE:20251005
DTEND;VALUE=DATE:20251006
DTSTAMP:20260423T231245
CREATED:20250414T134828Z
LAST-MODIFIED:20250414T134828Z
UID:15227-1759622400-1759708799@winerun5k.com
SUMMARY:Divine Llama Haunted Wine Run 5k
DESCRIPTION:  \n  \n  \n \n\n\n\n\n\n\n\n\n\n\n\n\n\n\n\n\n\n\n\nDivine Llama Vineyards\n4126 Divine Llama Lane\nEast Bend\, NC US 27018\nSun October 5\, 2025 | 12:00PM EDT
URL:https://winerun5k.com/event/divine-llama-haunted-wine-run-5k/
CATEGORIES:Wine Run
ATTACH;FMTTYPE=image/jpeg:https://winerun5k.com/wp-content/uploads/2023/02/Banner-web-192x600-1.jpg
END:VEVENT
BEGIN:VEVENT
DTSTART;VALUE=DATE:20251005
DTEND;VALUE=DATE:20251006
DTSTAMP:20260423T231245
CREATED:20250414T134931Z
LAST-MODIFIED:20250414T134931Z
UID:15230-1759622400-1759708799@winerun5k.com
SUMMARY:Greenhouse Haunted Wine Run 5k
DESCRIPTION:  \n  \n  \n \n\n\n\n\n\n\n\n\n\n\n\n\n\n\n\n\n\n\n\nGreenhouse Winery\n2155 Gracin Ln\nIrwin\, PA US 15642\nSun October 5\, 2025 | 9:00AM EDT
URL:https://winerun5k.com/event/greenhouse-haunted-wine-run-5k/
CATEGORIES:Wine Run
ATTACH;FMTTYPE=image/jpeg:https://winerun5k.com/wp-content/uploads/2023/02/Banner-web-192x600-1.jpg
END:VEVENT
BEGIN:VEVENT
DTSTART;VALUE=DATE:20251011
DTEND;VALUE=DATE:20251012
DTSTAMP:20260423T231245
CREATED:20250414T135106Z
LAST-MODIFIED:20250414T135106Z
UID:15233-1760140800-1760227199@winerun5k.com
SUMMARY:Gervasi Haunted Wine Run 5k
DESCRIPTION:  \n  \n  \n \n\n\n\n\n\n\n\n\n\n\n\n\n\n\n\n\n\n\n\nGervasi Vineyard\n1700 55th St. NE\nCanton\, OH US 44721\nSat October 11\, 2025 | 10:00AM EDT
URL:https://winerun5k.com/event/gervasi-haunted-wine-run-5k-2/
CATEGORIES:Wine Run
ATTACH;FMTTYPE=image/jpeg:https://winerun5k.com/wp-content/uploads/2023/02/Banner-web-192x600-1.jpg
END:VEVENT
BEGIN:VEVENT
DTSTART;VALUE=DATE:20251011
DTEND;VALUE=DATE:20251012
DTSTAMP:20260423T231245
CREATED:20250414T135211Z
LAST-MODIFIED:20250414T135211Z
UID:15236-1760140800-1760227199@winerun5k.com
SUMMARY:Lincoln Way Vineyards Grape Stomp Wine Run 5k
DESCRIPTION:  \n  \n  \n \n\n\n\n\n\n\n\n\n\n\n\n\n\n\n\n\n\n\n\nLincoln Way Vineyards\n9050 W Old Lincoln Way\nWooster\, OH US 44691\nSat October 11\, 2025 | 4:00PM EDT
URL:https://winerun5k.com/event/lincoln-way-vineyards-grape-stomp-wine-run-5k/
CATEGORIES:Wine Run
ATTACH;FMTTYPE=image/jpeg:https://winerun5k.com/wp-content/uploads/2023/02/Banner-web-192x600-1.jpg
END:VEVENT
BEGIN:VEVENT
DTSTART;VALUE=DATE:20251011
DTEND;VALUE=DATE:20251012
DTSTAMP:20260423T231245
CREATED:20250514T130025Z
LAST-MODIFIED:20250514T130025Z
UID:15447-1760140800-1760227199@winerun5k.com
SUMMARY:Century Farm Winery
DESCRIPTION:  \n  \n  \n \n\n\n\n\n\n\n\n\n\n\n\n\n\n\n\n\n\n\n\nCentury Farm Winery\n1548 Lower Brownsville Rd\nJackson\, TN US 38301 \nSat October 11\, 2025 | 9:00AM CDT
URL:https://winerun5k.com/event/century-farm-winery/
CATEGORIES:Wine Run
ATTACH;FMTTYPE=image/jpeg:https://winerun5k.com/wp-content/uploads/2023/02/Banner-web-192x600-1.jpg
END:VEVENT
BEGIN:VEVENT
DTSTART;VALUE=DATE:20251012
DTEND;VALUE=DATE:20251013
DTSTAMP:20260423T231245
CREATED:20250414T135315Z
LAST-MODIFIED:20250414T135315Z
UID:15239-1760227200-1760313599@winerun5k.com
SUMMARY:Grand River Haunted Wine Run 5k
DESCRIPTION:  \n  \n  \n \n\n\n\n\n\n\n\n\n\n\n\n\n\n\n\n\n\n\n\nGrand River Cellars\n5750 S Madison Rd\nMadison\, OH US 44057\nSun October 12\, 2025 | 9:00AM EDT
URL:https://winerun5k.com/event/grand-river-haunted-wine-run-5k/
CATEGORIES:Wine Run
ATTACH;FMTTYPE=image/jpeg:https://winerun5k.com/wp-content/uploads/2023/02/Banner-web-192x600-1.jpg
END:VEVENT
BEGIN:VEVENT
DTSTART;VALUE=DATE:20251018
DTEND;VALUE=DATE:20251019
DTSTAMP:20260423T231245
CREATED:20250414T143704Z
LAST-MODIFIED:20250414T143704Z
UID:15242-1760745600-1760831999@winerun5k.com
SUMMARY:Vineyard at Hershey Haunted Wine Run 5k
DESCRIPTION:  \n  \n  \n \n\n\n\n\n\n\n\n\n\n\n\n\n\n\n\n\n\n\n\nThe Vineyard & Brewery at Hershey\n598 Schoolhouse Rd\nMiddletown\, PA US 17057\nSat October 18\, 2025 | 9:00AM EDT
URL:https://winerun5k.com/event/vineyard-at-hershey-haunted-wine-run-5k/
CATEGORIES:Wine Run
ATTACH;FMTTYPE=image/jpeg:https://winerun5k.com/wp-content/uploads/2023/02/Banner-web-192x600-1.jpg
END:VEVENT
BEGIN:VEVENT
DTSTART;VALUE=DATE:20251018
DTEND;VALUE=DATE:20251019
DTSTAMP:20260423T231245
CREATED:20250514T125832Z
LAST-MODIFIED:20250514T125832Z
UID:15444-1760745600-1760831999@winerun5k.com
SUMMARY:Amber Falls Haunted Wine Run 5k
DESCRIPTION:  \n  \n  \n \n\n\n\n\n\n\n\n\n\n\n\n\n\n\n\n\n\n\n\nAmber Falls Winery & Cellars\n794 Ridgetop Rd\nHampshire\, TN US 38461 \nSat October 18\, 2025 | 10:00AM CDT
URL:https://winerun5k.com/event/amber-falls-haunted-wine-run-5k-2/
CATEGORIES:Wine Run
ATTACH;FMTTYPE=image/jpeg:https://winerun5k.com/wp-content/uploads/2023/02/Banner-web-192x600-1.jpg
END:VEVENT
BEGIN:VEVENT
DTSTART;VALUE=DATE:20251019
DTEND;VALUE=DATE:20251020
DTSTAMP:20260423T231245
CREATED:20250414T143837Z
LAST-MODIFIED:20250414T143837Z
UID:15245-1760832000-1760918399@winerun5k.com
SUMMARY:Ozan Haunted Wine Run 5k
DESCRIPTION:  \n  \n  \n \n\n\n\n\n\n\n\n\n\n\n\n\n\n\n\n\n\n\n\nOzan Winery & Vineyard\n173 Co Rd 301\nCalera\, AL US 35040\nSun October 19\, 2025 | 11:30AM CDT
URL:https://winerun5k.com/event/ozan-haunted-wine-run-5k-2/
CATEGORIES:Wine Run
ATTACH;FMTTYPE=image/jpeg:https://winerun5k.com/wp-content/uploads/2023/02/Banner-web-192x600-1.jpg
END:VEVENT
BEGIN:VEVENT
DTSTART;VALUE=DATE:20251019
DTEND;VALUE=DATE:20251020
DTSTAMP:20260423T231245
CREATED:20250414T144039Z
LAST-MODIFIED:20250414T144039Z
UID:15249-1760832000-1760918399@winerun5k.com
SUMMARY:Stokelan Estate Haunted Wine Run 5k
DESCRIPTION:  \n  \n  \n \n\n\n\n\n\n\n\n\n\n\n\n\n\n\n\n\n\n\n\nStokelan Estate Winery\n52 Eayrestown Rd\nMedford\, NJ US 08055\nSun October 19\, 2025 | 9:00AM EDT
URL:https://winerun5k.com/event/stokelan-estate-haunted-wine-run-5k/
CATEGORIES:Wine Run
ATTACH;FMTTYPE=image/jpeg:https://winerun5k.com/wp-content/uploads/2023/02/Banner-web-192x600-1.jpg
END:VEVENT
BEGIN:VEVENT
DTSTART;VALUE=DATE:20251019
DTEND;VALUE=DATE:20251020
DTSTAMP:20260423T231245
CREATED:20250414T144201Z
LAST-MODIFIED:20250414T144201Z
UID:15252-1760832000-1760918399@winerun5k.com
SUMMARY:Perissos Vineyard Haunted Wine Run 5k
DESCRIPTION:  \n  \n  \n \n\n\n\n\n\n\n\n\n\n\n\n\n\n\n\n\n\n\n\nPerissos Vineyard and Winery\n7214 Park Rd 4 W\nBurnet\, TX US 78611\nSun October 19\, 2025 | 9:00AM CDT
URL:https://winerun5k.com/event/perissos-vineyard-haunted-wine-run-5k/
CATEGORIES:Wine Run
ATTACH;FMTTYPE=image/jpeg:https://winerun5k.com/wp-content/uploads/2023/02/Banner-web-192x600-1.jpg
END:VEVENT
BEGIN:VEVENT
DTSTART;VALUE=DATE:20251021
DTEND;VALUE=DATE:20251022
DTSTAMP:20260423T231245
CREATED:20250514T131959Z
LAST-MODIFIED:20250514T131959Z
UID:15450-1761004800-1761091199@winerun5k.com
SUMMARY:45 North Vineyard & Winery
DESCRIPTION:  \n  \n  \n \n\n\n\n\n\n\n\n\n\n\n\n\n\n\n\n\n\n\n\n\n\n45 North Vineyard & Winery\n8580 E Horn Rd\nLake Leelanau\, MI US 49653 \nSun September 21\, 2025 | 9:00AM EDT
URL:https://winerun5k.com/event/45-north-vineyard-winery/
CATEGORIES:Wine Run
ATTACH;FMTTYPE=image/jpeg:https://winerun5k.com/wp-content/uploads/2023/02/Banner-web-192x600-1.jpg
END:VEVENT
BEGIN:VEVENT
DTSTART;VALUE=DATE:20251025
DTEND;VALUE=DATE:20251026
DTSTAMP:20260423T231245
CREATED:20250514T194639Z
LAST-MODIFIED:20250514T194639Z
UID:15512-1761350400-1761436799@winerun5k.com
SUMMARY:Wise Villa Winery
DESCRIPTION:  \n  \n  \n \n\n\n\n\n\n\n\n\n\n\n\n\n\n\n\n\n\n\n\n\n\nWise Villa Winery\n4200 Wise Road\nLincoln\, CA US 95648 \nSat October 25\, 2025 | 8:30AM PDT
URL:https://winerun5k.com/event/wise-villa-winery/
CATEGORIES:Wine Run
ATTACH;FMTTYPE=image/jpeg:https://winerun5k.com/wp-content/uploads/2023/02/Banner-web-192x600-1.jpg
END:VEVENT
END:VCALENDAR