BEGIN:VCALENDAR
VERSION:2.0
PRODID:-//5K - ECPv6.15.20//NONSGML v1.0//EN
CALSCALE:GREGORIAN
METHOD:PUBLISH
X-ORIGINAL-URL:https://winerun5k.com
X-WR-CALDESC:Events for 5K
REFRESH-INTERVAL;VALUE=DURATION:PT1H
X-Robots-Tag:noindex
X-PUBLISHED-TTL:PT1H
BEGIN:VTIMEZONE
TZID:UTC
BEGIN:STANDARD
TZOFFSETFROM:+0000
TZOFFSETTO:+0000
TZNAME:UTC
DTSTART:20250101T000000
END:STANDARD
END:VTIMEZONE
BEGIN:VEVENT
DTSTART;VALUE=DATE:20260301
DTEND;VALUE=DATE:20260302
DTSTAMP:20260423T160014
CREATED:20260121T134643Z
LAST-MODIFIED:20260121T195755Z
UID:17350-1772323200-1772409599@winerun5k.com
SUMMARY:Akash Wine Run 5k
DESCRIPTION:  \n  \n  \n \n\n\n\n\n\n\n\n\n\n\n\n\n\n\n\n\n\n\n\n\n\nAkash Winery & Vineyards\n39730 Calle Contento\nTemecula\, CA US 92591\nSun March 1\, 2026 | 10:00AM PST
URL:https://winerun5k.com/event/akash-wine-run-5k/
CATEGORIES:Wine Run
ATTACH;FMTTYPE=image/jpeg:https://winerun5k.com/wp-content/uploads/2025/08/aksh-.jpg
END:VEVENT
BEGIN:VEVENT
DTSTART;VALUE=DATE:20260301
DTEND;VALUE=DATE:20260302
DTSTAMP:20260423T160014
CREATED:20260121T135041Z
LAST-MODIFIED:20260121T195628Z
UID:17353-1772323200-1772409599@winerun5k.com
SUMMARY:Bernhardt Wine Run 5k
DESCRIPTION:  \n  \n  \n \n\n\n\n\n\n\n\n\n\n\n\n\n\n\n\n\n\n\n\n\n\nBernhardt Winery\n9043 County Rd 204\nPlantersville\, TX US 77363\nSun March 1\, 2026 | 10:30AM CST
URL:https://winerun5k.com/event/bernhardt-wine-run-5k/
CATEGORIES:Wine Run
ATTACH;FMTTYPE=image/jpeg:https://winerun5k.com/wp-content/uploads/2025/09/web-1-1.jpg
END:VEVENT
BEGIN:VEVENT
DTSTART;VALUE=DATE:20260308
DTEND;VALUE=DATE:20260309
DTSTAMP:20260423T160014
CREATED:20260121T135135Z
LAST-MODIFIED:20260121T195615Z
UID:17355-1772928000-1773014399@winerun5k.com
SUMMARY:Artesa Wine Run 5k
DESCRIPTION:  \n  \n  \n \n\n\n\n\n\n\n\n\n\n\n\n\n\n\n\n\n\n\n\n\n\nArtesa Vineyards & Winery\n1345 Henry Rd\nNapa\, CA US 94559\nSun March 8\, 2026 | 8:30AM PDT
URL:https://winerun5k.com/event/artesa-wine-run-5k/
CATEGORIES:Wine Run
ATTACH;FMTTYPE=image/jpeg:https://winerun5k.com/wp-content/uploads/2025/08/Artesa.jpg
END:VEVENT
BEGIN:VEVENT
DTSTART;VALUE=DATE:20260314
DTEND;VALUE=DATE:20260315
DTSTAMP:20260423T160014
CREATED:20260121T135450Z
LAST-MODIFIED:20260121T195551Z
UID:17357-1773446400-1773532799@winerun5k.com
SUMMARY:Lu Mil Wine Run 5k
DESCRIPTION:  \n  \n  \n \n\n\n\n\n\n\n\n\n\n\n\n\n\n\n\n\n\n\n\n\n\nLu Mil Vineyard\n438 Suggs-Taylor Rd\nElizabethtown\, NC US 28337\nSat March 14\, 2026 | 9:00AM EDT
URL:https://winerun5k.com/event/lu-mil-wine-run-5k-4/
CATEGORIES:Wine Run
ATTACH;FMTTYPE=image/jpeg:https://winerun5k.com/wp-content/uploads/2025/09/web.jpg
END:VEVENT
BEGIN:VEVENT
DTSTART;VALUE=DATE:20260314
DTEND;VALUE=DATE:20260315
DTSTAMP:20260423T160014
CREATED:20260121T135543Z
LAST-MODIFIED:20260121T195513Z
UID:17359-1773446400-1773532799@winerun5k.com
SUMMARY:Ridgeview Wine Run 5k
DESCRIPTION:  \n  \n  \n \n\n\n\n\n\n\n\n\n\n\n\n\n\n\n\n\n\n\n\n\n\nRidgeview Farm Vineyards & Brewing Co\n8375 Carpet Road\nNew Tripoli\, PA US 18066\nSat March 14\, 2026 | 9:00AM EDT
URL:https://winerun5k.com/event/ridgeview-wine-run-5k-3/
CATEGORIES:Wine Run
ATTACH;FMTTYPE=image/jpeg:https://winerun5k.com/wp-content/uploads/2025/08/Ridgeview-.jpg
END:VEVENT
BEGIN:VEVENT
DTSTART;VALUE=DATE:20260315
DTEND;VALUE=DATE:20260316
DTSTAMP:20260423T160014
CREATED:20260121T135659Z
LAST-MODIFIED:20260121T195455Z
UID:17361-1773532800-1773619199@winerun5k.com
SUMMARY:Armstrong Valley Wine Run 5k
DESCRIPTION:  \n  \n  \n \n\n\n\n\n\n\n\n\n\n\n\n\n\n\n\n\n\n\n\n\n\nArmstrong Valley Winery\n212 Rutter Rd\nHalifax\, PA US 17032\nSun March 15\, 2026 | 10:00AM EDT
URL:https://winerun5k.com/event/armstrong-valley-wine-run-5k-2/
CATEGORIES:Wine Run
ATTACH;FMTTYPE=image/jpeg:https://winerun5k.com/wp-content/uploads/2025/08/Armstrong-Valley.jpg
END:VEVENT
BEGIN:VEVENT
DTSTART;VALUE=DATE:20260321
DTEND;VALUE=DATE:20260322
DTSTAMP:20260423T160014
CREATED:20260121T135808Z
LAST-MODIFIED:20260121T195427Z
UID:17363-1774051200-1774137599@winerun5k.com
SUMMARY:TRUSS Wines 5k Wine Run
DESCRIPTION:  \n  \n  \n \n\n\n\n\n\n\n\n\n\n\n\n\n\n\n\n\n\n\n\n\n\nTRUSS Wines\n8800 Vineyard Dr.\nPaso Robles\, CA US 93446\nSat March 21\, 2026 | 9:00AM PDT
URL:https://winerun5k.com/event/truss-wines-5k-wine-run/
CATEGORIES:Wine Run
ATTACH;FMTTYPE=image/jpeg:https://winerun5k.com/wp-content/uploads/2025/08/TRUSS.jpg
END:VEVENT
BEGIN:VEVENT
DTSTART;VALUE=DATE:20260321
DTEND;VALUE=DATE:20260322
DTSTAMP:20260423T160014
CREATED:20260121T140227Z
LAST-MODIFIED:20260121T195340Z
UID:17372-1774051200-1774137599@winerun5k.com
SUMMARY:Ospreys Dominion Wine Run 5k
DESCRIPTION:  \n  \n  \n \n\n\n\n\n\n\n\n\n\n\n\n\n\n\n\n\n\n\n\n\n\nOsprey’s Dominion Vineyards\n44075 Main Rd\nPeconic\, NY US 11958\nSat March 21\, 2026 | 9:00AM EDT
URL:https://winerun5k.com/event/ospreys-dominion-wine-run-5k/
CATEGORIES:Wine Run
ATTACH;FMTTYPE=image/jpeg:https://winerun5k.com/wp-content/uploads/2025/09/ospreys.jpg
END:VEVENT
BEGIN:VEVENT
DTSTART;VALUE=DATE:20260328
DTEND;VALUE=DATE:20260329
DTSTAMP:20260423T160014
CREATED:20260121T140323Z
LAST-MODIFIED:20260121T195320Z
UID:17374-1774656000-1774742399@winerun5k.com
SUMMARY:Valley Vineyards Wine Run 5k
DESCRIPTION:  \n  \n  \n \n\n\n\n\n\n\n\n\n\n\n\n\n\n\n\n\n\n\n\n\n\nValley Vineyards Winery & Brewery\n2276 US-22 & 3\nMorrow\, OH US 45152\nSat March 28\, 2026 | 10:00AM EDT
URL:https://winerun5k.com/event/valley-vineyards-wine-run-5k/
CATEGORIES:Wine Run
ATTACH;FMTTYPE=image/jpeg:https://winerun5k.com/wp-content/uploads/2025/09/web-1-2.jpg
END:VEVENT
BEGIN:VEVENT
DTSTART;VALUE=DATE:20260328
DTEND;VALUE=DATE:20260329
DTSTAMP:20260423T160014
CREATED:20260121T140453Z
LAST-MODIFIED:20260121T195304Z
UID:17376-1774656000-1774742399@winerun5k.com
SUMMARY:Stonum Vineyards Wine Run 5k
DESCRIPTION:  \n  \n  \n \n\n\n\n\n\n\n\n\n\n\n\n\n\n\n\n\n\n\n\n\n\nStonum Vineyards\n16388 Alpine Rd\nLodi\, CA US 95240\nSat March 28\, 2026 | 10:00AM PDT
URL:https://winerun5k.com/event/stonum-vineyards-wine-run-5k/
CATEGORIES:Wine Run
ATTACH;FMTTYPE=image/jpeg:https://winerun5k.com/wp-content/uploads/2025/09/web-2.jpg
END:VEVENT
BEGIN:VEVENT
DTSTART;VALUE=DATE:20260329
DTEND;VALUE=DATE:20260330
DTSTAMP:20260423T160014
CREATED:20260121T140656Z
LAST-MODIFIED:20260121T195246Z
UID:17378-1774742400-1774828799@winerun5k.com
SUMMARY:Chattooga Belle Farm Wine Run 5k
DESCRIPTION:  \n  \n  \n \n\n\n\n\n\n\n\n\n\n\n\n\n\n\n\n\n\n\n\n\n\nChattooga Belle Farm\n454 Damascus Church Rd\nLong Creek\, SC US 29658\nSun March 29\, 2026 | 10:00AM EDT
URL:https://winerun5k.com/event/chattooga-belle-farm-wine-run-5k-3/
CATEGORIES:Wine Run
ATTACH;FMTTYPE=image/jpeg:https://winerun5k.com/wp-content/uploads/2025/08/Chattooga-Belle-Farm.jpg
END:VEVENT
BEGIN:VEVENT
DTSTART;VALUE=DATE:20260329
DTEND;VALUE=DATE:20260330
DTSTAMP:20260423T160014
CREATED:20260121T140755Z
LAST-MODIFIED:20260121T195215Z
UID:17380-1774742400-1774828799@winerun5k.com
SUMMARY:Ironstone Vineyards Wine Run 5k
DESCRIPTION:  \n  \n  \n \n\n\n\n\n\n\n\n\n\n\n\n\n\n\n\n\n\n\n\n\n\nIronstone Vineyards\n1894 6 Mile Rd\nMurphys\, CA US 95247\nSun March 29\, 2026 |10:00AM PDT
URL:https://winerun5k.com/event/ironstone-vineyards-wine-run-5k/
CATEGORIES:Wine Run
ATTACH;FMTTYPE=image/jpeg:https://winerun5k.com/wp-content/uploads/2025/08/Ironstone-Vineyards-.jpg
END:VEVENT
BEGIN:VEVENT
DTSTART;VALUE=DATE:20260329
DTEND;VALUE=DATE:20260330
DTSTAMP:20260423T160014
CREATED:20260121T140845Z
LAST-MODIFIED:20260121T195151Z
UID:17382-1774742400-1774828799@winerun5k.com
SUMMARY:Spencer Farm Wine Run 5k
DESCRIPTION:  \n  \n  \n \n\n\n\n\n\n\n\n\n\n\n\n\n\n\n\n\n\n\n\n\n\nSpencer Farm Winery\n7015 E 161st St\nNoblesville\, IN US 46062\nSun March 29\, 2026 | 9:00AM EDT
URL:https://winerun5k.com/event/spencer-farm-wine-run-5k-2/
CATEGORIES:Wine Run
ATTACH;FMTTYPE=image/jpeg:https://winerun5k.com/wp-content/uploads/2025/09/Spencer-Farm-Wine-Run-5k.jpg
END:VEVENT
END:VCALENDAR