BEGIN:VCALENDAR
VERSION:2.0
PRODID:-//5K - ECPv6.15.20//NONSGML v1.0//EN
CALSCALE:GREGORIAN
METHOD:PUBLISH
X-WR-CALNAME:5K
X-ORIGINAL-URL:https://winerun5k.com
X-WR-CALDESC:Events for 5K
REFRESH-INTERVAL;VALUE=DURATION:PT1H
X-Robots-Tag:noindex
X-PUBLISHED-TTL:PT1H
BEGIN:VTIMEZONE
TZID:UTC
BEGIN:STANDARD
TZOFFSETFROM:+0000
TZOFFSETTO:+0000
TZNAME:UTC
DTSTART:20240101T000000
END:STANDARD
END:VTIMEZONE
BEGIN:VEVENT
DTSTART;VALUE=DATE:20250629
DTEND;VALUE=DATE:20250630
DTSTAMP:20260424T053249
CREATED:20250325T152041Z
LAST-MODIFIED:20250325T152041Z
UID:15017-1751155200-1751241599@winerun5k.com
SUMMARY:Abacela Wine Run 5k
DESCRIPTION:  \n  \n  \n \n\n\n\n\n\n\n\n\n\n\n\n\n\n\n\n\n\nAbacela Winery\n12500 Lookingglass Rd\nRoseburg\, OR US 97471\nSun June 29\, 2025 | 9:00AM PDT
URL:https://winerun5k.com/event/abacela-wine-run-5k-2/
CATEGORIES:Wine Run
ATTACH;FMTTYPE=image/jpeg:https://winerun5k.com/wp-content/uploads/2023/02/Banner-web-192x600-1.jpg
END:VEVENT
BEGIN:VEVENT
DTSTART;VALUE=DATE:20250628
DTEND;VALUE=DATE:20250629
DTSTAMP:20260424T053249
CREATED:20250325T151928Z
LAST-MODIFIED:20250325T151928Z
UID:15014-1751068800-1751155199@winerun5k.com
SUMMARY:Benton-Lane Wine Run 5k & Half Marathon
DESCRIPTION:  \n  \n  \n \n\n\n\n\n\n\n\n\n\n\n\n\n\n\n\n\n\nBenton-Lane Winery\n23924 Territorial Rd\nMonroe\, OR US 97456\nSat June 28\, 2025 | 9:00AM PDT
URL:https://winerun5k.com/event/benton-lane-wine-run-5k-half-marathon/
CATEGORIES:Wine Run
ATTACH;FMTTYPE=image/jpeg:https://winerun5k.com/wp-content/uploads/2023/02/Banner-web-192x600-1.jpg
END:VEVENT
BEGIN:VEVENT
DTSTART;VALUE=DATE:20250628
DTEND;VALUE=DATE:20250629
DTSTAMP:20260424T053249
CREATED:20250325T151815Z
LAST-MODIFIED:20250325T151815Z
UID:15011-1751068800-1751155199@winerun5k.com
SUMMARY:Blu Dot Farm Wine Run 5k
DESCRIPTION:  \n  \n  \n \n\n\n\n\n\n\n\n\n\n\n\n\n\n\n\n\n\nBlu Dot Farm & Vineyard\n11399 Boyne City Rd\nCharlevoix\, MI US 49720\nSat June 28\, 2025 | 10:00AM EDT
URL:https://winerun5k.com/event/blu-dot-farm-wine-run-5k/
CATEGORIES:Wine Run
ATTACH;FMTTYPE=image/jpeg:https://winerun5k.com/wp-content/uploads/2023/02/Banner-web-192x600-1.jpg
END:VEVENT
BEGIN:VEVENT
DTSTART;VALUE=DATE:20250622
DTEND;VALUE=DATE:20250623
DTSTAMP:20260424T053249
CREATED:20250325T151631Z
LAST-MODIFIED:20250325T151631Z
UID:15008-1750550400-1750636799@winerun5k.com
SUMMARY:Living Water Wine Run 5k
DESCRIPTION:  \n  \n  \n \n\n\n\n\n\n\n\n\n\n\n\n\n\n\n\n\n\nLiving Water Winery & Vineyard\n291 Living Water Ln\nBlairsville\, GA US 30512\nSun June 22\, 2025 | 11:00AM EDT
URL:https://winerun5k.com/event/living-water-wine-run-5k/
CATEGORIES:Wine Run
ATTACH;FMTTYPE=image/jpeg:https://winerun5k.com/wp-content/uploads/2023/02/Banner-web-192x600-1.jpg
END:VEVENT
BEGIN:VEVENT
DTSTART;VALUE=DATE:20250622
DTEND;VALUE=DATE:20250623
DTSTAMP:20260424T053249
CREATED:20250325T151534Z
LAST-MODIFIED:20250325T151534Z
UID:15005-1750550400-1750636799@winerun5k.com
SUMMARY:Spencer Farm Wine Run 5k
DESCRIPTION:  \n  \n  \n \n\n\n\n\n\n\n\n\n\n\n\n\n\n\n\n\n\nSpencer Farm Winery\n7015 E 161st St\nNoblesville\, IN US 46062\nSun June 22\, 2025 | 9:00AM EDT
URL:https://winerun5k.com/event/spencer-farm-wine-run-5k/
CATEGORIES:Wine Run
ATTACH;FMTTYPE=image/jpeg:https://winerun5k.com/wp-content/uploads/2023/02/Banner-web-192x600-1.jpg
END:VEVENT
BEGIN:VEVENT
DTSTART;VALUE=DATE:20250621
DTEND;VALUE=DATE:20250622
DTSTAMP:20260424T053249
CREATED:20250325T151430Z
LAST-MODIFIED:20250325T151430Z
UID:15002-1750464000-1750550399@winerun5k.com
SUMMARY:Chattooga Belle Farm Wine Run 5k
DESCRIPTION:  \n  \n  \n \n\n\n\n\n\n\n\n\n\n\n\n\n\n\n\n\n\nChattooga Belle Farm\n454 Damascus Church Rd\nLong Creek\, SC US 29658\nSat June 21\, 2025 | 9:00AM EDT
URL:https://winerun5k.com/event/chattooga-belle-farm-wine-run-5k-2/
CATEGORIES:Wine Run
ATTACH;FMTTYPE=image/jpeg:https://winerun5k.com/wp-content/uploads/2023/02/Banner-web-192x600-1.jpg
END:VEVENT
BEGIN:VEVENT
DTSTART;VALUE=DATE:20250621
DTEND;VALUE=DATE:20250622
DTSTAMP:20260424T053249
CREATED:20250325T151321Z
LAST-MODIFIED:20250325T151321Z
UID:14999-1750464000-1750550399@winerun5k.com
SUMMARY:Helvetia Wine Run 5k
DESCRIPTION:  \n  \n  \n \n\n\n\n\n\n\n\n\n\n\n\n\n\n\n\n\n\nHelvetia Vineyards & Winery\n23269 NW Yungen Rd\nHillsboro\, OR US 97124\nSat June 21\, 2025 | 8:30AM PDT
URL:https://winerun5k.com/event/helvetia-wine-run-5k/
CATEGORIES:Wine Run
ATTACH;FMTTYPE=image/jpeg:https://winerun5k.com/wp-content/uploads/2023/02/Banner-web-192x600-1.jpg
END:VEVENT
BEGIN:VEVENT
DTSTART;VALUE=DATE:20250621
DTEND;VALUE=DATE:20250622
DTSTAMP:20260424T053249
CREATED:20250325T151007Z
LAST-MODIFIED:20250325T151007Z
UID:14996-1750464000-1750550399@winerun5k.com
SUMMARY:Huber’s Orchard Wine Run 5k
DESCRIPTION:  \n  \n  \n \n\n\n\n\n\n\n\n\n\n\n\n\n\n\n\n\n\nHuber’s Orchard & Winery\n19816 Huber Rd\nBorden\, IN US 47106\nSat June 21\, 2025 | 9:00AM EDT
URL:https://winerun5k.com/event/hubers-orchard-wine-run-5k/
CATEGORIES:Wine Run
ATTACH;FMTTYPE=image/jpeg:https://winerun5k.com/wp-content/uploads/2023/02/Banner-web-192x600-1.jpg
END:VEVENT
BEGIN:VEVENT
DTSTART;VALUE=DATE:20250614
DTEND;VALUE=DATE:20250615
DTSTAMP:20260424T053249
CREATED:20250325T150837Z
LAST-MODIFIED:20250325T150837Z
UID:14993-1749859200-1749945599@winerun5k.com
SUMMARY:Engelheim Vineyards Wine Run 5k
DESCRIPTION:  \n  \n  \n \n\n\n\n\n\n\n\n\n\n\n\n\n\n\n\n\n\nEngelheim Vineyards\n120 Lakeview Rd\nEllijay\, GA US 30540\nSat June 14\, 2025 | 9:00AM EDT
URL:https://winerun5k.com/event/engelheim-vineyards-wine-run-5k/
CATEGORIES:Wine Run
ATTACH;FMTTYPE=image/jpeg:https://winerun5k.com/wp-content/uploads/2023/02/Banner-web-192x600-1.jpg
END:VEVENT
BEGIN:VEVENT
DTSTART;VALUE=DATE:20250614
DTEND;VALUE=DATE:20250615
DTSTAMP:20260424T053249
CREATED:20250325T150701Z
LAST-MODIFIED:20250325T150701Z
UID:14988-1749859200-1749945599@winerun5k.com
SUMMARY:DC Estate Wine Run 5k
DESCRIPTION:  \n  \n  \n \n\n\n\n\n\n\n\n\n\n\n\n\n\n\n\n\n\nDC Estate Winery\n8877 Stateline Rd\nSouth Beloit\, IL US 61080\nSat June 14\, 2025 | 9:00AM CDT
URL:https://winerun5k.com/event/dc-estate-wine-run-5k/
CATEGORIES:Wine Run
ATTACH;FMTTYPE=image/jpeg:https://winerun5k.com/wp-content/uploads/2023/02/Banner-web-192x600-1.jpg
END:VEVENT
BEGIN:VEVENT
DTSTART;VALUE=DATE:20250613
DTEND;VALUE=DATE:20250614
DTSTAMP:20260424T053249
CREATED:20250325T150601Z
LAST-MODIFIED:20250325T150601Z
UID:14987-1749772800-1749859199@winerun5k.com
SUMMARY:Wilridge Wine Run 5k
DESCRIPTION:  \n  \n  \n \n\n\n\n\n\n\n\n\n\n\n\n\n\n\n\n\n\nWilridge Vineyard\, Winery & Distillery\n250 Ehler Rd\nYakima\, WA US 98908\nFri June 13\, 2025 | 6:00PM PDT
URL:https://winerun5k.com/event/wilridge-wine-run-5k/
CATEGORIES:Wine Run
ATTACH;FMTTYPE=image/jpeg:https://winerun5k.com/wp-content/uploads/2023/02/Banner-web-192x600-1.jpg
END:VEVENT
BEGIN:VEVENT
DTSTART;VALUE=DATE:20250608
DTEND;VALUE=DATE:20250609
DTSTAMP:20260424T053249
CREATED:20250325T150445Z
LAST-MODIFIED:20250325T150445Z
UID:14984-1749340800-1749427199@winerun5k.com
SUMMARY:Rock N Wool Wine Run 5k
DESCRIPTION:  \n  \n  \n \n\n\n\n\n\n\n\n\n\n\n\n\n\n\n\n\n\nRock N Wool Winery\nW7817 Drake Rd\nPoynette\, WI US 53955\nSun June 8\, 2025 | 10:00AM CDT
URL:https://winerun5k.com/event/rock-n-wool-wine-run-5k/
CATEGORIES:Wine Run
ATTACH;FMTTYPE=image/jpeg:https://winerun5k.com/wp-content/uploads/2023/02/Banner-web-192x600-1.jpg
END:VEVENT
BEGIN:VEVENT
DTSTART;VALUE=DATE:20250607
DTEND;VALUE=DATE:20250608
DTSTAMP:20260424T053249
CREATED:20250325T150259Z
LAST-MODIFIED:20250325T150328Z
UID:14981-1749254400-1749340799@winerun5k.com
SUMMARY:Cunningham Creek Wine Run 5k
DESCRIPTION:  \n  \n  \n \n\n\n\n\n\n\n\n\n\n\n\n\n\n\n\n\n\nCunningham Creek Winery and Farm Store\n3304 Ruritan Lake Rd\nPalmyra\, VA US 22963\nSat June 7\, 2025 | 9:00AM EDT
URL:https://winerun5k.com/event/cunningham-creek-wine-run-5k/
CATEGORIES:Wine Run
ATTACH;FMTTYPE=image/jpeg:https://winerun5k.com/wp-content/uploads/2023/02/Banner-web-192x600-1.jpg
END:VEVENT
BEGIN:VEVENT
DTSTART;VALUE=DATE:20250607
DTEND;VALUE=DATE:20250608
DTSTAMP:20260424T053249
CREATED:20250325T150152Z
LAST-MODIFIED:20250325T150152Z
UID:14978-1749254400-1749340799@winerun5k.com
SUMMARY:Debonne Wine Run 5k
DESCRIPTION:  \n  \n  \n \n\n\n\n\n\n\n\n\n\n\n\n\n\n\n\n\n\nDebonne Vineyards\n7840 Doty Rd\nMadison\, OH US 44057\nSat June 7\, 2025 | 9:00AM EDT
URL:https://winerun5k.com/event/debonne-wine-run-5k-4/
CATEGORIES:Wine Run
ATTACH;FMTTYPE=image/jpeg:https://winerun5k.com/wp-content/uploads/2023/02/Banner-web-192x600-1.jpg
END:VEVENT
BEGIN:VEVENT
DTSTART;VALUE=DATE:20250606
DTEND;VALUE=DATE:20250607
DTSTAMP:20260424T053249
CREATED:20250325T150035Z
LAST-MODIFIED:20250325T150049Z
UID:14975-1749168000-1749254399@winerun5k.com
SUMMARY:Terra Blanca Wine Run 5kCreek Wine Run 5k
DESCRIPTION:  \n  \n  \n \n\n\n\n\n\n\n\n\n\n\n\n\n\n\n\n\n\nTerra Blanca Winery and Estate Vineyard\n34715 Demoss Rd\nBenton City\, WA US 99320\nFri June 6\, 2025 | 6:00PM PDT
URL:https://winerun5k.com/event/terra-blanca-wine-run-5kcreek-wine-run-5k/
CATEGORIES:Wine Run
ATTACH;FMTTYPE=image/jpeg:https://winerun5k.com/wp-content/uploads/2023/02/Banner-web-192x600-1.jpg
END:VEVENT
BEGIN:VEVENT
DTSTART;VALUE=DATE:20250601
DTEND;VALUE=DATE:20250602
DTSTAMP:20260424T053249
CREATED:20250325T145912Z
LAST-MODIFIED:20250325T145919Z
UID:14972-1748736000-1748822399@winerun5k.com
SUMMARY:Indian Creek Wine Run 5k
DESCRIPTION:  \n  \n  \n \n\n\n\n\n\n\n\n\n\n\n\n\n\n\n\n\n\nIndian Creek Winery\n1000 N. McDermott Rd\nKuna\, ID US 83634\nSun June 1\, 2025 | 8:30AM MDT
URL:https://winerun5k.com/event/indian-creek-wine-run-5k/
CATEGORIES:Wine Run
ATTACH;FMTTYPE=image/jpeg:https://winerun5k.com/wp-content/uploads/2023/02/Banner-web-192x600-1.jpg
END:VEVENT
BEGIN:VEVENT
DTSTART;VALUE=DATE:20250531
DTEND;VALUE=DATE:20250601
DTSTAMP:20260424T053249
CREATED:20250312T211525Z
LAST-MODIFIED:20250312T211525Z
UID:14709-1748649600-1748735999@winerun5k.com
SUMMARY:Vineyard at RiverWalk Wine Run 5k
DESCRIPTION:  \n  \n  \n \n\n\n\n\n\n\n\n\n\n\n\n\n\n\n\n\n\nSeven Birches Winery – RiverWalk Resort at Loon Mountain\n22 South Mountain Drive\nLincoln\, NH US 03251\nSat May 31\, 2025 | 10:00AM EDT
URL:https://winerun5k.com/event/vineyard-at-riverwalk-wine-run-5k-2/
CATEGORIES:Wine Run
ATTACH;FMTTYPE=image/jpeg:https://winerun5k.com/wp-content/uploads/2023/02/Banner-web-192x600-1.jpg
END:VEVENT
BEGIN:VEVENT
DTSTART;VALUE=DATE:20250531
DTEND;VALUE=DATE:20250601
DTSTAMP:20260424T053249
CREATED:20250312T211352Z
LAST-MODIFIED:20250312T211426Z
UID:14706-1748649600-1748735999@winerun5k.com
SUMMARY:Wine Run 5k at A Hint of Wine
DESCRIPTION:  \n  \n  \n \n\n\n\n\n\n\n\n\n\n\n\n\n\n\n\n\n\nA Hint Of… Wine\, Food & Spirits\n10011 Homer Rd\nLitchfield\, MI US 49252\nSat May 31\, 2025 | 9:00AM EDT
URL:https://winerun5k.com/event/wine-run-5k-at-a-hint-of-wine/
CATEGORIES:Wine Run
ATTACH;FMTTYPE=image/jpeg:https://winerun5k.com/wp-content/uploads/2023/02/Banner-web-192x600-1.jpg
END:VEVENT
BEGIN:VEVENT
DTSTART;VALUE=DATE:20250531
DTEND;VALUE=DATE:20250601
DTSTAMP:20260424T053249
CREATED:20250312T211255Z
LAST-MODIFIED:20250312T211255Z
UID:14703-1748649600-1748735999@winerun5k.com
SUMMARY:Telaya Wine Co.
DESCRIPTION:  \n  \n  \n \n\n\n\n\n\n\n\n\n\n\n\n\n\n\n\n\n\nTelaya Wine Co.\n240 E 32nd St\nGarden City\, ID US 83714\nSat May 31\, 2025 | 9:00AM MDT
URL:https://winerun5k.com/event/telaya-wine-co-2/
CATEGORIES:Wine Run
ATTACH;FMTTYPE=image/jpeg:https://winerun5k.com/wp-content/uploads/2023/02/Banner-web-192x600-1.jpg
END:VEVENT
BEGIN:VEVENT
DTSTART;VALUE=DATE:20250526
DTEND;VALUE=DATE:20250527
DTSTAMP:20260424T053249
CREATED:20250312T211144Z
LAST-MODIFIED:20250312T211144Z
UID:14700-1748217600-1748303999@winerun5k.com
SUMMARY:Studio Wine Run 5k
DESCRIPTION:  \n  \n  \n \n\n\n\n\n\n\n\n\n\n\n\n\n\n\n\n\n\nStudio Winery\n401 Sheridan Springs Rd\nLake Geneva\, WI US 53147\nMon May 26\, 2025 | 9:00AM CDT
URL:https://winerun5k.com/event/studio-wine-run-5k-2/
CATEGORIES:Wine Run
ATTACH;FMTTYPE=image/jpeg:https://winerun5k.com/wp-content/uploads/2023/02/Banner-web-192x600-1.jpg
END:VEVENT
BEGIN:VEVENT
DTSTART;VALUE=DATE:20250525
DTEND;VALUE=DATE:20250526
DTSTAMP:20260424T053249
CREATED:20250312T211026Z
LAST-MODIFIED:20250312T211026Z
UID:14694-1748131200-1748217599@winerun5k.com
SUMMARY:Trout Springs Wine Run 5k
DESCRIPTION:  \n  \n  \n \n\n\n\n\n\n\n\n\n\n\n\n\n\n\n\n\n\nTrout Springs Winery\n8150 River Road\nGreenleaf\, WI US 54126\nSun May 25\, 2025 | 9:00AM CDT
URL:https://winerun5k.com/event/trout-springs-wine-run-5k-2/
CATEGORIES:Wine Run
ATTACH;FMTTYPE=image/jpeg:https://winerun5k.com/wp-content/uploads/2023/02/Banner-web-192x600-1.jpg
END:VEVENT
BEGIN:VEVENT
DTSTART;VALUE=DATE:20250518
DTEND;VALUE=DATE:20250519
DTSTAMP:20260424T053249
CREATED:20250312T171514Z
LAST-MODIFIED:20250312T171545Z
UID:14692-1747526400-1747612799@winerun5k.com
SUMMARY:Millner Heritage Wine Run 5k
DESCRIPTION:  \n  \n  \n \n\n\n\n\n\n\n\n\n\n\n\n\n\n\n\n\n\nMillner Heritage Vineyard & Winery\n32025 MN-15\nKimball\, MN US 55353\nSun May 18\, 2025 | 10:00AM CDT
URL:https://winerun5k.com/event/millner-heritage-wine-run-5k/
CATEGORIES:Wine Run
ATTACH;FMTTYPE=image/jpeg:https://winerun5k.com/wp-content/uploads/2023/02/Banner-web-192x600-1.jpg
END:VEVENT
BEGIN:VEVENT
DTSTART;VALUE=DATE:20250517
DTEND;VALUE=DATE:20250518
DTSTAMP:20260424T053249
CREATED:20250312T152429Z
LAST-MODIFIED:20250312T152429Z
UID:14689-1747440000-1747526399@winerun5k.com
SUMMARY:Wild Mountain Winery Wine Run 5k
DESCRIPTION:  \n  \n  \n \n\n\n\n\n\n\n\n\n\n\n\n\n\n\n\n\n\nWild Mountain Winery\n16906 Wild Mountain Rd\nTaylors Falls\, MN US 55084\nSat May 17\, 2025 | 9:00AM CDT
URL:https://winerun5k.com/event/wild-mountain-winery-wine-run-5k-2/
CATEGORIES:Wine Run
ATTACH;FMTTYPE=image/jpeg:https://winerun5k.com/wp-content/uploads/2023/02/Banner-web-192x600-1.jpg
END:VEVENT
BEGIN:VEVENT
DTSTART;VALUE=DATE:20250427
DTEND;VALUE=DATE:20250428
DTSTAMP:20260424T053249
CREATED:20250312T152317Z
LAST-MODIFIED:20250312T152317Z
UID:14686-1745712000-1745798399@winerun5k.com
SUMMARY:Killing Tree Wine Run 5k
DESCRIPTION:  \n  \n  \n \n\n\n\n\n\n\n\n\n\n\n\n\n\n\n\n\n\nKilling Tree Winery\n16688 CR-4\nDresden\, OH US 43821\nSun April 27\, 2025 | 9:00AM EDT
URL:https://winerun5k.com/event/killing-tree-wine-run-5k/
CATEGORIES:Wine Run
ATTACH;FMTTYPE=image/jpeg:https://winerun5k.com/wp-content/uploads/2023/02/Banner-web-192x600-1.jpg
END:VEVENT
BEGIN:VEVENT
DTSTART;VALUE=DATE:20250426
DTEND;VALUE=DATE:20250427
DTSTAMP:20260424T053249
CREATED:20250312T152210Z
LAST-MODIFIED:20250312T152210Z
UID:14683-1745625600-1745711999@winerun5k.com
SUMMARY:Valley View Hills Wine Run 5k
DESCRIPTION:  \n  \n  \n \n\n\n\n\n\n\n\n\n\n\n\n\n\n\n\n\n\nValley View Hills Winery\n29176 Klump Rd\nSugar Grove\, OH US 43155\nSat April 26\, 2025 | 9:00AM EDT
URL:https://winerun5k.com/event/valley-view-hills-wine-run-5k/
CATEGORIES:Wine Run
ATTACH;FMTTYPE=image/jpeg:https://winerun5k.com/wp-content/uploads/2023/02/Banner-web-192x600-1.jpg
END:VEVENT
BEGIN:VEVENT
DTSTART;VALUE=DATE:20250426
DTEND;VALUE=DATE:20250427
DTSTAMP:20260424T053249
CREATED:20250312T152111Z
LAST-MODIFIED:20250312T152111Z
UID:14680-1745625600-1745711999@winerun5k.com
SUMMARY:August Hill Wine Run 5k
DESCRIPTION:  \n  \n  \n \n\n\n\n\n\n\n\n\n\n\n\n\n\n\n\n\n\nValley View Hills Winery\n29176 Klump Rd\nSugar Grove\, OH US 43155\nSat April 26\, 2025 | 9:00AM EDT
URL:https://winerun5k.com/event/august-hill-wine-run-5k/
CATEGORIES:Wine Run
ATTACH;FMTTYPE=image/jpeg:https://winerun5k.com/wp-content/uploads/2023/02/Banner-web-192x600-1.jpg
END:VEVENT
BEGIN:VEVENT
DTSTART;VALUE=DATE:20250426
DTEND;VALUE=DATE:20250427
DTSTAMP:20260424T053249
CREATED:20250312T152010Z
LAST-MODIFIED:20250312T152010Z
UID:14677-1745625600-1745711999@winerun5k.com
SUMMARY:Stone Villa Wine Run 5k
DESCRIPTION:  \n  \n  \n \n\n\n\n\n\n\n\n\n\n\n\n\n\n\n\n\n\nStone Villa Wine Cellars\n1085 Claypike Rd\nAcme\, PA US 15610\nSat April 26\, 2025 | 9:00AM EDT
URL:https://winerun5k.com/event/stone-villa-wine-run-5k/
CATEGORIES:Wine Run
ATTACH;FMTTYPE=image/jpeg:https://winerun5k.com/wp-content/uploads/2023/02/Banner-web-192x600-1.jpg
END:VEVENT
BEGIN:VEVENT
DTSTART;VALUE=DATE:20250413
DTEND;VALUE=DATE:20250414
DTSTAMP:20260424T053249
CREATED:20250312T151901Z
LAST-MODIFIED:20250312T151901Z
UID:14674-1744502400-1744588799@winerun5k.com
SUMMARY:Bar Z Wine Run 5k
DESCRIPTION:  \n  \n  \n \n\n\n\n\n\n\n\n\n\n\n\n\n\n\n\n\n\nBar Z Winery\n19290 Farm to market 1541\nCanyon\, TX US 79015\nSun April 13\, 2025 | 9:00AM CDT
URL:https://winerun5k.com/event/bar-z-wine-run-5k/
CATEGORIES:Wine Run
ATTACH;FMTTYPE=image/jpeg:https://winerun5k.com/wp-content/uploads/2023/02/Banner-web-192x600-1.jpg
END:VEVENT
BEGIN:VEVENT
DTSTART;VALUE=DATE:20250413
DTEND;VALUE=DATE:20250414
DTSTAMP:20260424T053249
CREATED:20250312T151754Z
LAST-MODIFIED:20250312T151754Z
UID:14671-1744502400-1744588799@winerun5k.com
SUMMARY:Mari Vineyards Wine Run 5k
DESCRIPTION:  \n  \n  \n \n\n\n\n\n\n\n\n\n\n\n\n\n\n\n\n\n\nMari Vineyards\n8175 Center Rd\nTraverse City\, MI US 49686\nSun April 13\, 2025 | 9:00AM EDT
URL:https://winerun5k.com/event/mari-vineyards-wine-run-5k/
CATEGORIES:Wine Run
ATTACH;FMTTYPE=image/jpeg:https://winerun5k.com/wp-content/uploads/2023/02/Banner-web-192x600-1.jpg
END:VEVENT
BEGIN:VEVENT
DTSTART;VALUE=DATE:20250413
DTEND;VALUE=DATE:20250414
DTSTAMP:20260424T053249
CREATED:20250312T151625Z
LAST-MODIFIED:20250312T151631Z
UID:14668-1744502400-1744588799@winerun5k.com
SUMMARY:Grace Hill Wine Run 5k
DESCRIPTION:  \n  \n  \n \n\n\n\n\n\n\n\n\n\n\n\n\n\n\n\n\n\nGrace Hill Winery\n6310 S Grace Hill Rd\nWhitewater\, KS US 67154\nSun April 13\, 2025 | 9:00AM CDT
URL:https://winerun5k.com/event/grace-hill-wine-run-5k-2/
CATEGORIES:Wine Run
ATTACH;FMTTYPE=image/jpeg:https://winerun5k.com/wp-content/uploads/2023/02/Banner-web-192x600-1.jpg
END:VEVENT
END:VCALENDAR