BEGIN:VCALENDAR
VERSION:2.0
PRODID:-//5K - ECPv6.15.20//NONSGML v1.0//EN
CALSCALE:GREGORIAN
METHOD:PUBLISH
X-ORIGINAL-URL:https://winerun5k.com
X-WR-CALDESC:Events for 5K
REFRESH-INTERVAL;VALUE=DURATION:PT1H
X-Robots-Tag:noindex
X-PUBLISHED-TTL:PT1H
BEGIN:VTIMEZONE
TZID:UTC
BEGIN:STANDARD
TZOFFSETFROM:+0000
TZOFFSETTO:+0000
TZNAME:UTC
DTSTART:20230101T000000
END:STANDARD
END:VTIMEZONE
BEGIN:VEVENT
DTSTART;VALUE=DATE:20240609
DTEND;VALUE=DATE:20240610
DTSTAMP:20260424T100414
CREATED:20240112T160131Z
LAST-MODIFIED:20240112T160131Z
UID:11171-1717891200-1717977599@winerun5k.com
SUMMARY:Maryhill Winery
DESCRIPTION:  \n  \n  \n \n\n\n\n\n\n\n\n\n\n\n\n\n\n\n\n\n\n\n\n\nMaryhill Winery\n9774 Hwy 14\nGoldendale\, WA US 98620 \nSun June 9\, 2024 | 9:00AM PDT
URL:https://winerun5k.com/event/maryhill-winery-2/
CATEGORIES:Wine Run
ATTACH;FMTTYPE=image/jpeg:https://winerun5k.com/wp-content/uploads/2023/02/Banner-web-192x600-1.jpg
END:VEVENT
BEGIN:VEVENT
DTSTART;VALUE=DATE:20240608
DTEND;VALUE=DATE:20240609
DTSTAMP:20260424T100414
CREATED:20240112T155914Z
LAST-MODIFIED:20240112T155914Z
UID:11168-1717804800-1717891199@winerun5k.com
SUMMARY:Cunningham Creek Winery and Farm Store
DESCRIPTION:  \n  \n  \n \n\n\n\n\n\n\n\n\n\n\n\n\n\n\n\n\n\n\n\n\nCunningham Creek Winery and Farm Store\n3304 Ruritan Lake Rd\nPalmyra\, VA US 22963 \nSat June 8\, 2024 | 9:00AM EDT
URL:https://winerun5k.com/event/cunningham-creek-winery-and-farm-store-2/
CATEGORIES:Wine Run
ATTACH;FMTTYPE=image/jpeg:https://winerun5k.com/wp-content/uploads/2023/02/Banner-web-192x600-1.jpg
END:VEVENT
BEGIN:VEVENT
DTSTART;VALUE=DATE:20240608
DTEND;VALUE=DATE:20240609
DTSTAMP:20260424T100414
CREATED:20240112T155656Z
LAST-MODIFIED:20240112T155707Z
UID:11164-1717804800-1717891199@winerun5k.com
SUMMARY:Terra Blanca Winery and Estate Vineyard
DESCRIPTION:  \n  \n  \n \n\n\n\n\n\n\n\n\n\n\n\n\n\n\n\n\n\n\n\n\nTerra Blanca Winery and Estate Vineyard\n34715 Demoss Rd\nBenton City\, WA US 99320 \nSat June 8\, 2024 | 6:00PM PDT
URL:https://winerun5k.com/event/terra-blanca-winery-and-estate-vineyard/
CATEGORIES:Wine Run
ATTACH;FMTTYPE=image/jpeg:https://winerun5k.com/wp-content/uploads/2023/02/Banner-web-192x600-1.jpg
END:VEVENT
BEGIN:VEVENT
DTSTART;VALUE=DATE:20240608
DTEND;VALUE=DATE:20240609
DTSTAMP:20260424T100414
CREATED:20240112T155239Z
LAST-MODIFIED:20240112T155239Z
UID:11161-1717804800-1717891199@winerun5k.com
SUMMARY:DC Estate Winery
DESCRIPTION:  \n  \n  \n \n\n\n\n\n\n\n\n\n\n\n\n\n\n\n\n\n\n\n\n\nDC Estate Winery\n8877 Stateline Rd\nSouth Beloit\, IL US 61080 \nSat June 8\, 2024 | 9:00AM CDT
URL:https://winerun5k.com/event/dc-estate-winery-2/
CATEGORIES:Wine Run
ATTACH;FMTTYPE=image/jpeg:https://winerun5k.com/wp-content/uploads/2023/02/Banner-web-192x600-1.jpg
END:VEVENT
BEGIN:VEVENT
DTSTART;VALUE=DATE:20240608
DTEND;VALUE=DATE:20240609
DTSTAMP:20260424T100414
CREATED:20231211T151522Z
LAST-MODIFIED:20231211T151522Z
UID:10869-1717804800-1717891199@winerun5k.com
SUMMARY:Debonne Wine Run 5k
DESCRIPTION:  \n  \n  \n \n\n\n\n\n\n\n\n\n\n\n\n\n\n\n\n\n\n\n\n\nDebonne Vineyards\n7840 Doty Rd\nMadison\, OH US 44057 \nSat June 8\, 2024 | 9:00AM EDT
URL:https://winerun5k.com/event/debonne-wine-run-5k-3/
CATEGORIES:Wine Run
ATTACH;FMTTYPE=image/jpeg:https://winerun5k.com/wp-content/uploads/2023/02/Banner-web-192x600-1.jpg
END:VEVENT
BEGIN:VEVENT
DTSTART;VALUE=DATE:20240608
DTEND;VALUE=DATE:20240609
DTSTAMP:20260424T100414
CREATED:20231211T151423Z
LAST-MODIFIED:20231211T151423Z
UID:10867-1717804800-1717891199@winerun5k.com
SUMMARY:Pearl Street Wine Run 5k
DESCRIPTION:  \n  \n  \n \n\n\n\n\n\n\n\n\n\n\n\n\n\n\n\n\n\n\n\n\nPearl Street Brewery\n1401 St Andrew St.\nLa Crosse\, WI US 54603 \nSat June 8\, 2024 | 3:00PM CDT
URL:https://winerun5k.com/event/pearl-street-wine-run-5k/
CATEGORIES:Wine Run
ATTACH;FMTTYPE=image/jpeg:https://winerun5k.com/wp-content/uploads/2023/02/Banner-web-192x600-1.jpg
END:VEVENT
BEGIN:VEVENT
DTSTART;VALUE=DATE:20240607
DTEND;VALUE=DATE:20240608
DTSTAMP:20260424T100414
CREATED:20231211T151303Z
LAST-MODIFIED:20231211T151303Z
UID:10865-1717718400-1717804799@winerun5k.com
SUMMARY:Wilridge Vineyard
DESCRIPTION:  \n  \n  \n \n\n\n\n\n\n\n\n\n\n\n\n\n\n\n\n\n\n\n\n\nWilridge Vineyard\, \nWinery & Distillery 250 Ehler Rd\nYakima\, WA US 98908 \nFri June 7\, 2024 | 6:00PM PDT
URL:https://winerun5k.com/event/wilridge-vineyard/
CATEGORIES:Wine Run
ATTACH;FMTTYPE=image/jpeg:https://winerun5k.com/wp-content/uploads/2023/02/Banner-web-192x600-1.jpg
END:VEVENT
BEGIN:VEVENT
DTSTART;VALUE=DATE:20240602
DTEND;VALUE=DATE:20240603
DTSTAMP:20260424T100414
CREATED:20231211T151105Z
LAST-MODIFIED:20231211T151128Z
UID:10863-1717286400-1717372799@winerun5k.com
SUMMARY:Greenhouse Winery
DESCRIPTION:  \n  \n  \n \n\n\n\n\n\n\n\n\n\n\n\n\n\n\n\n\n\n\n\n\nGreenhouse Winery\n2155 Gracin Ln\nIrwin\, PA US 15642 \nSun June 2\, 2024 | 9:00AM EDT
URL:https://winerun5k.com/event/greenhouse-winery-2/
CATEGORIES:Wine Run
ATTACH;FMTTYPE=image/jpeg:https://winerun5k.com/wp-content/uploads/2023/02/Banner-web-192x600-1.jpg
END:VEVENT
BEGIN:VEVENT
DTSTART;VALUE=DATE:20240602
DTEND;VALUE=DATE:20240603
DTSTAMP:20260424T100414
CREATED:20231211T150812Z
LAST-MODIFIED:20231211T150812Z
UID:10861-1717286400-1717372799@winerun5k.com
SUMMARY:Cold Springs Wine Run 5k
DESCRIPTION:  \n  \n  \n \n\n\n\n\n\n\n\n\n\n\n\n\n\n\n\n\n\n\n\n\nCold Springs Winery\n7853 W Ringert Ln\nHammett\, ID US 83627 \nSun June 2\, 2024 | 9:00AM CDT
URL:https://winerun5k.com/event/cold-springs-wine-run-5k-2/
CATEGORIES:Wine Run
ATTACH;FMTTYPE=image/jpeg:https://winerun5k.com/wp-content/uploads/2023/02/Banner-web-192x600-1.jpg
END:VEVENT
BEGIN:VEVENT
DTSTART;VALUE=DATE:20240601
DTEND;VALUE=DATE:20240602
DTSTAMP:20260424T100414
CREATED:20231211T150659Z
LAST-MODIFIED:20231211T150659Z
UID:10859-1717200000-1717286399@winerun5k.com
SUMMARY:Hauser Hill Wine Run 5k
DESCRIPTION:  \n  \n  \n \n\n\n\n\n\n\n\n\n\n\n\n\n\n\n\n\n\n\n\n\nHauser Hill Event Center\n410 Cashtown Rd\nBiglerville\, PA US 17307 \nSat June 1\, 2024 | 9:00AM EDT
URL:https://winerun5k.com/event/hauser-hill-wine-run-5k/
CATEGORIES:Wine Run
ATTACH;FMTTYPE=image/jpeg:https://winerun5k.com/wp-content/uploads/2023/02/Banner-web-192x600-1.jpg
END:VEVENT
BEGIN:VEVENT
DTSTART;VALUE=DATE:20240601
DTEND;VALUE=DATE:20240602
DTSTAMP:20260424T100414
CREATED:20231211T150552Z
LAST-MODIFIED:20231211T150552Z
UID:10857-1717200000-1717286399@winerun5k.com
SUMMARY:Telaya Wine Run 5k
DESCRIPTION:  \n  \n  \n \n\n\n\n\n\n\n\n\n\n\n\n\n\n\n\n\n\n\n\n\nTelaya Wine Co.\n240 E 32nd St\nGarden City\, ID US 83714 \nSat June 1\, 2024 | 9:00AM MDT
URL:https://winerun5k.com/event/telaya-wine-run-5k/
CATEGORIES:Wine Run
ATTACH;FMTTYPE=image/jpeg:https://winerun5k.com/wp-content/uploads/2023/02/Banner-web-192x600-1.jpg
END:VEVENT
BEGIN:VEVENT
DTSTART;VALUE=DATE:20240527
DTEND;VALUE=DATE:20240528
DTSTAMP:20260424T100414
CREATED:20231211T150433Z
LAST-MODIFIED:20231211T150433Z
UID:10855-1716768000-1716854399@winerun5k.com
SUMMARY:Studio Wine Run 5k
DESCRIPTION:  \n  \n  \n \n\n\n\n\n\n\n\n\n\n\n\n\n\n\n\n\n\n\n\n\nStudio Winery\n401 E Sheridan Springs Rd\nLake Geneva\, WI US 53147 \nMon May 27\, 2024 | 9:00AM CDT
URL:https://winerun5k.com/event/studio-wine-run-5k/
CATEGORIES:Wine Run
ATTACH;FMTTYPE=image/jpeg:https://winerun5k.com/wp-content/uploads/2023/02/Banner-web-192x600-1.jpg
END:VEVENT
BEGIN:VEVENT
DTSTART;VALUE=DATE:20240526
DTEND;VALUE=DATE:20240527
DTSTAMP:20260424T100414
CREATED:20231211T150312Z
LAST-MODIFIED:20231211T150312Z
UID:10853-1716681600-1716767999@winerun5k.com
SUMMARY:Mount Nittany Wine Run 5k
DESCRIPTION:  \n  \n  \n \n\n\n\n\n\n\n\n\n\n\n\n\n\n\n\n\n\n\n\n\nMount Nittany Vineyard & Winery\n300 Houser Road\nCentre Hall\, PA US 16828 \nSun May 26\, 2024 | 10:00AM EDT
URL:https://winerun5k.com/event/mount-nittany-wine-run-5k/
CATEGORIES:Wine Run
ATTACH;FMTTYPE=image/jpeg:https://winerun5k.com/wp-content/uploads/2023/02/Banner-web-192x600-1.jpg
END:VEVENT
BEGIN:VEVENT
DTSTART;VALUE=DATE:20240526
DTEND;VALUE=DATE:20240527
DTSTAMP:20260424T100414
CREATED:20231211T150212Z
LAST-MODIFIED:20231211T150212Z
UID:10851-1716681600-1716767999@winerun5k.com
SUMMARY:Trout Springs Wine Run 5k
DESCRIPTION:  \n  \n  \n \n\n\n\n\n\n\n\n\n\n\n\n\n\n\n\n\n\n\n\n\nTrout Springs Winery\n8150 River Road\nGreenleaf\, WI US 54126 \nSun May 26\, 2024 | 9:30AM CDT
URL:https://winerun5k.com/event/trout-springs-wine-run-5k/
CATEGORIES:Wine Run
ATTACH;FMTTYPE=image/jpeg:https://winerun5k.com/wp-content/uploads/2023/02/Banner-web-192x600-1.jpg
END:VEVENT
BEGIN:VEVENT
DTSTART;VALUE=DATE:20240525
DTEND;VALUE=DATE:20240526
DTSTAMP:20260424T100414
CREATED:20231211T150114Z
LAST-MODIFIED:20231211T150114Z
UID:10849-1716595200-1716681599@winerun5k.com
SUMMARY:Armstrong Valley Wine Run 5k
DESCRIPTION:  \n  \n  \n \n\n\n\n\n\n\n\n\n\n\n\n\n\n\n\n\n\n\n\n\nArmstrong Valley Winery\n212 Rutter Rd\nHalifax\, PA US 17032 \nSat May 25\, 2024 | 10:00AM EDT
URL:https://winerun5k.com/event/armstrong-valley-wine-run-5k/
CATEGORIES:Wine Run
ATTACH;FMTTYPE=image/jpeg:https://winerun5k.com/wp-content/uploads/2023/02/Banner-web-192x600-1.jpg
END:VEVENT
BEGIN:VEVENT
DTSTART;VALUE=DATE:20240518
DTEND;VALUE=DATE:20240519
DTSTAMP:20260424T100414
CREATED:20231211T145936Z
LAST-MODIFIED:20231211T145936Z
UID:10846-1715990400-1716076799@winerun5k.com
SUMMARY:Wild Mountain Winery Wine Run 5k
DESCRIPTION:  \n  \n  \n \n\n\n\n\n\n\n\n\n\n\n\n\n\n\n\n\n\n\n\n\nWild Mountain Winery\n16906 Wild Mountain Rd\nTaylors Falls\, MN US 55084 \nSat May 18\, 2024 | 9:00AM CDT
URL:https://winerun5k.com/event/wild-mountain-winery-wine-run-5k/
CATEGORIES:Wine Run
ATTACH;FMTTYPE=image/jpeg:https://winerun5k.com/wp-content/uploads/2023/02/Banner-web-192x600-1.jpg
END:VEVENT
BEGIN:VEVENT
DTSTART;VALUE=DATE:20240505
DTEND;VALUE=DATE:20240506
DTSTAMP:20260424T100414
CREATED:20240112T153747Z
LAST-MODIFIED:20240112T153747Z
UID:11143-1714867200-1714953599@winerun5k.com
SUMMARY:The Vineyard at Florence Wine Run 5k
DESCRIPTION:  \n  \n  \n \n\n\n\n\n\n\n\n\n\n\n\n\n\n\n\n\n\n\n\n\nThe Vineyard at Florence\n111 Via Francesco\nFlorence\, TX US 76527 \nSun May 5\, 2024 | 11:00AM CDT
URL:https://winerun5k.com/event/the-vineyard-at-florence-wine-run-5k/
CATEGORIES:Wine Run
ATTACH;FMTTYPE=image/jpeg:https://winerun5k.com/wp-content/uploads/2023/02/Banner-web-192x600-1.jpg
END:VEVENT
BEGIN:VEVENT
DTSTART;VALUE=DATE:20240504
DTEND;VALUE=DATE:20240505
DTSTAMP:20260424T100414
CREATED:20240112T153617Z
LAST-MODIFIED:20240112T153644Z
UID:11140-1714780800-1714867199@winerun5k.com
SUMMARY:Benigna's Creek Wine Run
DESCRIPTION:  \n  \n  \n \n\n\n\n\n\n\n\n\n\n\n\n\n\n\n\n\n\n\n\n\nBenigna’s Creek Vineyard & Winery\, 1585 Ridge Rd\nKlingerstown\, PA US 17941 \nSat May 4\, 2024 | 9:00AM EDT
URL:https://winerun5k.com/event/benignas-creek-wine-run/
CATEGORIES:Wine Run
ATTACH;FMTTYPE=image/jpeg:https://winerun5k.com/wp-content/uploads/2023/02/Banner-web-192x600-1.jpg
END:VEVENT
BEGIN:VEVENT
DTSTART;VALUE=DATE:20240428
DTEND;VALUE=DATE:20240429
DTSTAMP:20260424T100414
CREATED:20231211T145819Z
LAST-MODIFIED:20231211T145819Z
UID:10844-1714262400-1714348799@winerun5k.com
SUMMARY:Rising Sun Vineyard Wine Run 5k
DESCRIPTION:  \n  \n  \n \n\n\n\n\n\n\n\n\n\n\n\n\n\n\n\n\n\n\n\n\nRising Sun Vineyard\n233 Edmonson Ranch Rd\nMcDade\, TX US 78650 \nSun April 28\, 2024 | 10:00AM CDT
URL:https://winerun5k.com/event/rising-sun-vineyard-wine-run-5k/
CATEGORIES:Wine Run
ATTACH;FMTTYPE=image/jpeg:https://winerun5k.com/wp-content/uploads/2023/02/Banner-web-192x600-1.jpg
END:VEVENT
BEGIN:VEVENT
DTSTART;VALUE=DATE:20240427
DTEND;VALUE=DATE:20240428
DTSTAMP:20260424T100414
CREATED:20240112T153146Z
LAST-MODIFIED:20240112T153335Z
UID:11137-1714176000-1714262399@winerun5k.com
SUMMARY:Stone Villa Wine Cellars
DESCRIPTION:  \n  \n  \n \n\n\n\n\n\n\n\n\n\n\n\n\n\n\n\n\n\n\n\n\nStone Villa Wine Cellars\n1085 Claypike Rd\nAcme\, PA US 15610 \nSat April 27\, 2024 | 9:00AM EDT
URL:https://winerun5k.com/event/debonne-wine-run-5k-copy-2/
CATEGORIES:Wine Run
ATTACH;FMTTYPE=image/jpeg:https://winerun5k.com/wp-content/uploads/2023/02/Banner-web-192x600-1.jpg
END:VEVENT
BEGIN:VEVENT
DTSTART;VALUE=DATE:20240427
DTEND;VALUE=DATE:20240428
DTSTAMP:20260424T100414
CREATED:20231211T145720Z
LAST-MODIFIED:20231211T145720Z
UID:10842-1714176000-1714262399@winerun5k.com
SUMMARY:RayLen Wine Run 5k
DESCRIPTION:  \n  \n  \n \n\n\n\n\n\n\n\n\n\n\n\n\n\n\n\n\n\n\n\n\nRayLen Vineyards and Winery\n3577 US-158\nMocksville\, NC US 27028 \nSat April 27\, 2024 | 10:00AM EDT
URL:https://winerun5k.com/event/raylen-wine-run-5k-2/
CATEGORIES:Wine Run
ATTACH;FMTTYPE=image/jpeg:https://winerun5k.com/wp-content/uploads/2023/02/Banner-web-192x600-1.jpg
END:VEVENT
BEGIN:VEVENT
DTSTART;VALUE=DATE:20240421
DTEND;VALUE=DATE:20240422
DTSTAMP:20260424T100414
CREATED:20240112T152916Z
LAST-MODIFIED:20240112T152916Z
UID:11134-1713657600-1713743999@winerun5k.com
SUMMARY:Grace Hill Wine Run 5k
DESCRIPTION:  \n  \n  \n \n\n\n\n\n\n\n\n\n\n\n\n\n\n\n\n\n\n\n\n\nGrace Hill Winery\n6310 S Grace Hill Rd\nWhitewater\, KS US 67154 \nSun April 21\, 2024 | 9:00AM CDT
URL:https://winerun5k.com/event/grace-hill-wine-run-5k/
CATEGORIES:Wine Run
ATTACH;FMTTYPE=image/jpeg:https://winerun5k.com/wp-content/uploads/2023/02/Banner-web-192x600-1.jpg
END:VEVENT
BEGIN:VEVENT
DTSTART;VALUE=DATE:20240421
DTEND;VALUE=DATE:20240422
DTSTAMP:20260424T100414
CREATED:20231211T145619Z
LAST-MODIFIED:20231211T145619Z
UID:10840-1713657600-1713743999@winerun5k.com
SUMMARY:Fence Stile Vineyards Wine Run 5k
DESCRIPTION:  \n  \n  \n \n\n\n\n\n\n\n\n\n\n\n\n\n\n\n\n\n\n\n\n\nFence Stile Vineyard\n31010 W. 124th St.\nExcelsior Springs\, MO US 64024 \nSun April 21\, 2024 | 9:00AM CDT
URL:https://winerun5k.com/event/fence-stile-vineyards-wine-run-5k-2/
CATEGORIES:Wine Run
ATTACH;FMTTYPE=image/jpeg:https://winerun5k.com/wp-content/uploads/2023/02/Banner-web-192x600-1.jpg
END:VEVENT
BEGIN:VEVENT
DTSTART;VALUE=DATE:20240420
DTEND;VALUE=DATE:20240421
DTSTAMP:20260424T100414
CREATED:20240112T151855Z
LAST-MODIFIED:20240112T151855Z
UID:11126-1713571200-1713657599@winerun5k.com
SUMMARY:Fables & Feathers Winery
DESCRIPTION:  \n  \n  \n \n\n\n\n\n\n\n\n\n\n\n\n\n\n\n\n\n\n\n\n\nFables & Feathers Winery\n2117 Bruno Dr.\nGoodview\, VA US 24095 \nSat April 20\, 2024 | 9:00AM EDT
URL:https://winerun5k.com/event/fables-feathers-winery/
CATEGORIES:Wine Run
ATTACH;FMTTYPE=image/jpeg:https://winerun5k.com/wp-content/uploads/2023/02/Banner-web-192x600-1.jpg
END:VEVENT
BEGIN:VEVENT
DTSTART;VALUE=DATE:20240420
DTEND;VALUE=DATE:20240421
DTSTAMP:20260424T100414
CREATED:20240112T150054Z
LAST-MODIFIED:20240112T150533Z
UID:11110-1713571200-1713657599@winerun5k.com
SUMMARY:Flat Creek Wine Run
DESCRIPTION:  \n  \n  \n \n\n\n\n\n\n\n\n\n\n\n\n\n\n\n\n\n\n\n\n\nFlat Creek Estate Winery & Vineyard\n24912 Singleton Bend E\nMarble Falls\, TX US 78654 \nSat April 20\, 2024 | 9:00AM CDT
URL:https://winerun5k.com/event/flat-creek-wine-run/
CATEGORIES:Wine Run
ATTACH;FMTTYPE=image/jpeg:https://winerun5k.com/wp-content/uploads/2023/02/Banner-web-192x600-1.jpg
END:VEVENT
BEGIN:VEVENT
DTSTART;VALUE=DATE:20240420
DTEND;VALUE=DATE:20240421
DTSTAMP:20260424T100414
CREATED:20231211T145522Z
LAST-MODIFIED:20231211T145522Z
UID:10838-1713571200-1713657599@winerun5k.com
SUMMARY:Z&M Twisted Vines Wine Run 5k
DESCRIPTION:  \n  \n  \n \n\n\n\n\n\n\n\n\n\n\n\n\n\n\n\n\n\n\n\n\nZ&M Twisted Vines Winery and Vineyard\n24305 Loring Rd\nLawrence\, KS US 66044 \nSat April 20\, 2024 | 10:00AM CDT
URL:https://winerun5k.com/event/zm-twisted-vines-wine-run-5k-2/
CATEGORIES:Wine Run
ATTACH;FMTTYPE=image/jpeg:https://winerun5k.com/wp-content/uploads/2023/02/Banner-web-192x600-1.jpg
END:VEVENT
BEGIN:VEVENT
DTSTART;VALUE=DATE:20240420
DTEND;VALUE=DATE:20240421
DTSTAMP:20260424T100414
CREATED:20231211T145420Z
LAST-MODIFIED:20231211T145420Z
UID:10836-1713571200-1713657599@winerun5k.com
SUMMARY:Nolichucky Wine Run 5k
DESCRIPTION:  \n  \n  \n \n\n\n\n\n\n\n\n\n\n\n\n\n\n\n\n\n\n\n\n\nNolichucky Vineyard Weddings and Events\n6600 Fish Hatchery Rd\nRussellville\, TN US 37860\nSat April 20\, 2024 | 8:30AM EDT
URL:https://winerun5k.com/event/nolichucky-wine-run-5k/
CATEGORIES:Wine Run
ATTACH;FMTTYPE=image/jpeg:https://winerun5k.com/wp-content/uploads/2023/02/Banner-web-192x600-1.jpg
END:VEVENT
BEGIN:VEVENT
DTSTART;VALUE=DATE:20240414
DTEND;VALUE=DATE:20240415
DTSTAMP:20260424T100414
CREATED:20231211T145304Z
LAST-MODIFIED:20231211T145304Z
UID:10834-1713052800-1713139199@winerun5k.com
SUMMARY:Bar Z Winery
DESCRIPTION:  \n  \n  \n \n\n\n\n\n\n\n\n\n\n\n\n\n\n\n\n\n\n\n\n\nBar Z Winery\n19290 Farm to market 1541\nCanyon\, TX US 79015\nSun April 14\, 2024 | 9:00AM CDT
URL:https://winerun5k.com/event/bar-z-winery-2/
CATEGORIES:Wine Run
ATTACH;FMTTYPE=image/jpeg:https://winerun5k.com/wp-content/uploads/2023/02/Banner-web-192x600-1.jpg
END:VEVENT
BEGIN:VEVENT
DTSTART;VALUE=DATE:20240413
DTEND;VALUE=DATE:20240414
DTSTAMP:20260424T100414
CREATED:20231211T145115Z
LAST-MODIFIED:20231211T145115Z
UID:10832-1712966400-1713052799@winerun5k.com
SUMMARY:Wild Blossom Wine Run 5k
DESCRIPTION:  \n  \n  \n \n\n\n\n\n\n\n\n\n\n\n\n\n\n\n\n\n\n\n\n\nWild Blossom Meadery & Winery\n9030 S Hermitage Ave\nChicago\, IL US 60620\nSat April 13\, 2024 | 8:00AM CDT
URL:https://winerun5k.com/event/wild-blossom-wine-run-5k/
CATEGORIES:Wine Run
ATTACH;FMTTYPE=image/jpeg:https://winerun5k.com/wp-content/uploads/2023/02/Banner-web-192x600-1.jpg
END:VEVENT
BEGIN:VEVENT
DTSTART;VALUE=DATE:20240413
DTEND;VALUE=DATE:20240414
DTSTAMP:20260424T100414
CREATED:20231211T144945Z
LAST-MODIFIED:20231211T144945Z
UID:10830-1712966400-1713052799@winerun5k.com
SUMMARY:Llano Estacado Wine Run 5k
DESCRIPTION:  \n  \n  \n \n\n\n\n\n\n\n\n\n\n\n\n\n\n\n\n\n\n\n\n\nLlano Estacado Winery\n3426 F M 1585\nLubbock\, TX US 79404\nApril 13th\, 2024 | 9:00AM CDT
URL:https://winerun5k.com/event/llano-estacado-wine-run-5k-2/
CATEGORIES:Wine Run
ATTACH;FMTTYPE=image/jpeg:https://winerun5k.com/wp-content/uploads/2023/02/Banner-web-192x600-1.jpg
END:VEVENT
END:VCALENDAR