BEGIN:VCALENDAR
VERSION:2.0
PRODID:-//5K - ECPv6.15.20//NONSGML v1.0//EN
CALSCALE:GREGORIAN
METHOD:PUBLISH
X-ORIGINAL-URL:https://winerun5k.com
X-WR-CALDESC:Events for 5K
REFRESH-INTERVAL;VALUE=DURATION:PT1H
X-Robots-Tag:noindex
X-PUBLISHED-TTL:PT1H
BEGIN:VTIMEZONE
TZID:UTC
BEGIN:STANDARD
TZOFFSETFROM:+0000
TZOFFSETTO:+0000
TZNAME:UTC
DTSTART:20240101T000000
END:STANDARD
END:VTIMEZONE
BEGIN:VEVENT
DTSTART;VALUE=DATE:20250830
DTEND;VALUE=DATE:20250831
DTSTAMP:20260423T222941
CREATED:20250325T154200Z
LAST-MODIFIED:20250325T154200Z
UID:15071-1756512000-1756598399@winerun5k.com
SUMMARY:5k Harvest Wine Run at Stoney Ridge Winery
DESCRIPTION:  \n  \n  \n \n\n\n\n\n\n\n\n\n\n\n\n\n\n\n\n\n\n\n\nStoney Ridge Winery\n7144 Williams Co Rd 16\nBryan\, OH US 43506\nSat August 30\, 2025 | 9:30AM EDT
URL:https://winerun5k.com/event/5k-harvest-wine-run-at-stoney-ridge-winery/
CATEGORIES:Wine Run
ATTACH;FMTTYPE=image/jpeg:https://winerun5k.com/wp-content/uploads/2023/02/Banner-web-192x600-1.jpg
END:VEVENT
BEGIN:VEVENT
DTSTART;VALUE=DATE:20250824
DTEND;VALUE=DATE:20250825
DTSTAMP:20260423T222941
CREATED:20250325T154050Z
LAST-MODIFIED:20250325T154050Z
UID:15069-1755993600-1756079999@winerun5k.com
SUMMARY:Four Corners Wine Run 5k
DESCRIPTION:  \n  \n  \n \n\n\n\n\n\n\n\n\n\n\n\n\n\n\n\n\n\n\n\nFour Corners Winery\n294 E 600 N\nValparaiso\, IN US 46383\nSun August 24\, 2025 | 9:00AM CDT
URL:https://winerun5k.com/event/four-corners-wine-run-5k/
CATEGORIES:Wine Run
ATTACH;FMTTYPE=image/jpeg:https://winerun5k.com/wp-content/uploads/2023/02/Banner-web-192x600-1.jpg
END:VEVENT
BEGIN:VEVENT
DTSTART;VALUE=DATE:20250823
DTEND;VALUE=DATE:20250824
DTSTAMP:20260423T222941
CREATED:20250514T194757Z
LAST-MODIFIED:20250514T194757Z
UID:15515-1755907200-1755993599@winerun5k.com
SUMMARY:Baker-Bird Winery
DESCRIPTION:  \n  \n  \n \n\n\n\n\n\n\n\n\n\n\n\n\n\n\n\n\n\n\n\n\n\nBaker-Bird Winery\n4465 Augusta Chatham Rd\nAugusta\, KY US 41002 \nSat August 23\, 2025 | 9:00AM EDT
URL:https://winerun5k.com/event/baker-bird-winery-2/
CATEGORIES:Wine Run
ATTACH;FMTTYPE=image/jpeg:https://winerun5k.com/wp-content/uploads/2023/02/Banner-web-192x600-1.jpg
END:VEVENT
BEGIN:VEVENT
DTSTART;VALUE=DATE:20250823
DTEND;VALUE=DATE:20250824
DTSTAMP:20260423T222941
CREATED:20250325T153937Z
LAST-MODIFIED:20250325T153937Z
UID:15066-1755907200-1755993599@winerun5k.com
SUMMARY:Galen Glen Vineyard Wine Run 5k
DESCRIPTION:  \n  \n  \n \n\n\n\n\n\n\n\n\n\n\n\n\n\n\n\n\n\n\n\nGalen Glen Vineyard & Winery\n255 Winter Mountain Dr\nAndreas\, PA US 18211\nSat August 23\, 2025 | 9:00AM EDT
URL:https://winerun5k.com/event/galen-glen-vineyard-wine-run-5k/
CATEGORIES:Wine Run
ATTACH;FMTTYPE=image/jpeg:https://winerun5k.com/wp-content/uploads/2023/02/Banner-web-192x600-1.jpg
END:VEVENT
BEGIN:VEVENT
DTSTART;VALUE=DATE:20250817
DTEND;VALUE=DATE:20250818
DTSTAMP:20260423T222941
CREATED:20250325T153824Z
LAST-MODIFIED:20250325T153824Z
UID:15063-1755388800-1755475199@winerun5k.com
SUMMARY:Millbrook Vineyards Wine Run 5k
DESCRIPTION:  \n  \n  \n \n\n\n\n\n\n\n\n\n\n\n\n\n\n\n\n\n\n\n\nMillbrook Vineyards & Winery\n26 Wing Rd\nMillbrook\, NY US 12545\nSun August 17\, 2025 | 10:00AM EDT
URL:https://winerun5k.com/event/millbrook-vineyards-wine-run-5k/
CATEGORIES:Wine Run
ATTACH;FMTTYPE=image/jpeg:https://winerun5k.com/wp-content/uploads/2023/02/Banner-web-192x600-1.jpg
END:VEVENT
BEGIN:VEVENT
DTSTART;VALUE=DATE:20250816
DTEND;VALUE=DATE:20250817
DTSTAMP:20260423T222941
CREATED:20250325T153729Z
LAST-MODIFIED:20250325T153729Z
UID:15060-1755302400-1755388799@winerun5k.com
SUMMARY:Four Daughters Wine Run 5k
DESCRIPTION:  \n  \n  \n \n\n\n\n\n\n\n\n\n\n\n\n\n\n\n\n\n\n\n\nFour Daughters Vineyard & Winery\n78757 MN-16\, Spring Valley\, MN US 55975\nSat August 16\, 2025 | 9:00AM CDT
URL:https://winerun5k.com/event/four-daughters-wine-run-5k/
CATEGORIES:Wine Run
ATTACH;FMTTYPE=image/jpeg:https://winerun5k.com/wp-content/uploads/2023/02/Banner-web-192x600-1.jpg
END:VEVENT
BEGIN:VEVENT
DTSTART;VALUE=DATE:20250802
DTEND;VALUE=DATE:20250803
DTSTAMP:20260423T222941
CREATED:20250325T153609Z
LAST-MODIFIED:20250325T153609Z
UID:15057-1754092800-1754179199@winerun5k.com
SUMMARY:Bordeleau Vineyards Wine Run 5k
DESCRIPTION:  \n  \n  \n \n\n\n\n\n\n\n\n\n\n\n\n\n\n\n\n\n\n\n\nBordeleau Vineyards & Winery\n3155 Noble Farm Rd\nEden\, MD US 21822\nSat August 2\, 2025 | 9:00AM EDT
URL:https://winerun5k.com/event/bordeleau-vineyards-wine-run-5k/
CATEGORIES:Wine Run
ATTACH;FMTTYPE=image/jpeg:https://winerun5k.com/wp-content/uploads/2023/02/Banner-web-192x600-1.jpg
END:VEVENT
BEGIN:VEVENT
DTSTART;VALUE=DATE:20250727
DTEND;VALUE=DATE:20250728
DTSTAMP:20260423T222941
CREATED:20250325T153456Z
LAST-MODIFIED:20250527T155135Z
UID:15053-1753574400-1753660799@winerun5k.com
SUMMARY:Van Duzer Wine Run 5k
DESCRIPTION:  \n  \n  \n \n\n\n\n\n\n\n\n\n\n\n\n\n\n\n\n\n\n\n\nVan Duzer Vineyards\n11975 Smithfield Rd\nDallas\, OR US 97338\nSun July 27\, 2025 | 8:30AM PDT
URL:https://winerun5k.com/event/van-duzer-wine-run-5k/
CATEGORIES:Wine Run
ATTACH;FMTTYPE=image/jpeg:https://winerun5k.com/wp-content/uploads/2025/03/k3SZuTgv.jpeg
END:VEVENT
BEGIN:VEVENT
DTSTART;VALUE=DATE:20250726
DTEND;VALUE=DATE:20250727
DTSTAMP:20260423T222941
CREATED:20250325T153328Z
LAST-MODIFIED:20250325T153328Z
UID:15050-1753488000-1753574399@winerun5k.com
SUMMARY:Maryhill Wine Run 5k
DESCRIPTION:  \n  \n  \n \n\n\n\n\n\n\n\n\n\n\n\n\n\n\n\n\n\nMaryhill Winery\n9774 Hwy 14\nGoldendale\, WA US 98620\nSat July 26\, 2025 | 9:00AM PDT
URL:https://winerun5k.com/event/maryhill-wine-run-5k/
CATEGORIES:Wine Run
ATTACH;FMTTYPE=image/jpeg:https://winerun5k.com/wp-content/uploads/2023/02/Banner-web-192x600-1.jpg
END:VEVENT
BEGIN:VEVENT
DTSTART;VALUE=DATE:20250726
DTEND;VALUE=DATE:20250727
DTSTAMP:20260423T222941
CREATED:20250325T153230Z
LAST-MODIFIED:20250325T153230Z
UID:15047-1753488000-1753574399@winerun5k.com
SUMMARY:Flying Otter Wine Run 5k
DESCRIPTION:  \n  \n  \n \n\n\n\n\n\n\n\n\n\n\n\n\n\n\n\n\n\nFlying Otter Winery\n3402 Chase Rd\nAdrian\, MI US 49221\nSat July 26\, 2025 | 5:00PM EDT
URL:https://winerun5k.com/event/flying-otter-wine-run-5k/
CATEGORIES:Wine Run
ATTACH;FMTTYPE=image/jpeg:https://winerun5k.com/wp-content/uploads/2023/02/Banner-web-192x600-1.jpg
END:VEVENT
BEGIN:VEVENT
DTSTART;VALUE=DATE:20250720
DTEND;VALUE=DATE:20250721
DTSTAMP:20260423T222941
CREATED:20250325T153130Z
LAST-MODIFIED:20250325T153130Z
UID:15044-1752969600-1753055999@winerun5k.com
SUMMARY:Bella Rose Vineyard Wine Run 5k
DESCRIPTION:  \n  \n  \n \n\n\n\n\n\n\n\n\n\n\n\n\n\n\n\n\n\nBella Rose Vineyard & Winery\n1243 Ridge Rd\nLewiston\, NY US 14092\nSun July 20\, 2025 | 9:00AM EDT
URL:https://winerun5k.com/event/bella-rose-vineyard-wine-run-5k/
CATEGORIES:Wine Run
ATTACH;FMTTYPE=image/jpeg:https://winerun5k.com/wp-content/uploads/2023/02/Banner-web-192x600-1.jpg
END:VEVENT
BEGIN:VEVENT
DTSTART;VALUE=DATE:20250720
DTEND;VALUE=DATE:20250721
DTSTAMP:20260423T222941
CREATED:20250325T153030Z
LAST-MODIFIED:20250325T153030Z
UID:15041-1752969600-1753055999@winerun5k.com
SUMMARY:Mackinaw Trail Wine Run 5k
DESCRIPTION:  \n  \n  \n \n\n\n\n\n\n\n\n\n\n\n\n\n\n\n\n\n\nMackinaw Trail Winery & Brewery\n3423 US-131\nPetoskey\, MI US 49770\nSun July 20\, 2025 | 11:30AM EDT
URL:https://winerun5k.com/event/mackinaw-trail-wine-run-5k-2/
CATEGORIES:Wine Run
ATTACH;FMTTYPE=image/jpeg:https://winerun5k.com/wp-content/uploads/2023/02/Banner-web-192x600-1.jpg
END:VEVENT
BEGIN:VEVENT
DTSTART;VALUE=DATE:20250719
DTEND;VALUE=DATE:20250720
DTSTAMP:20260423T222941
CREATED:20250325T152909Z
LAST-MODIFIED:20250325T152926Z
UID:15037-1752883200-1752969599@winerun5k.com
SUMMARY:Uncle John’s Wine Run 5k
DESCRIPTION:  \n  \n  \n \n\n\n\n\n\n\n\n\n\n\n\n\n\n\n\n\n\nUncle John’s Cider Mill\n8614 NORTH\, 8614 US-127\nSt Johns\, MI US 48879\nSat July 19\, 2025 | 9:00AM EDT
URL:https://winerun5k.com/event/uncle-johns-wine-run-5k-2/
CATEGORIES:Wine Run
ATTACH;FMTTYPE=image/jpeg:https://winerun5k.com/wp-content/uploads/2023/02/Banner-web-192x600-1.jpg
END:VEVENT
BEGIN:VEVENT
DTSTART;VALUE=DATE:20250719
DTEND;VALUE=DATE:20250720
DTSTAMP:20260423T222941
CREATED:20250325T152811Z
LAST-MODIFIED:20250325T152811Z
UID:15035-1752883200-1752969599@winerun5k.com
SUMMARY:Olathea Creek Wine Run 5k
DESCRIPTION:  \n  \n  \n \n\n\n\n\n\n\n\n\n\n\n\n\n\n\n\n\n\nOlathea Creek Vineyard & Winery\n23456 Great River Rd\nLe Claire\, IA US 52753\nSat July 19\, 2025 | 5:00PM CDT
URL:https://winerun5k.com/event/olathea-creek-wine-run-5k/
CATEGORIES:Wine Run
ATTACH;FMTTYPE=image/jpeg:https://winerun5k.com/wp-content/uploads/2023/02/Banner-web-192x600-1.jpg
END:VEVENT
BEGIN:VEVENT
DTSTART;VALUE=DATE:20250713
DTEND;VALUE=DATE:20250714
DTSTAMP:20260423T222941
CREATED:20250325T152654Z
LAST-MODIFIED:20250325T152654Z
UID:15032-1752364800-1752451199@winerun5k.com
SUMMARY:Greenvale Vineyards Wine Run 5k
DESCRIPTION:  \n  \n  \n \n\n\n\n\n\n\n\n\n\n\n\n\n\n\n\n\n\nGreenvale Vineyards\n582 Wapping Road\nPortsmouth\, RI US 02871\nSun July 13\, 2025 | 8:00AM EDT
URL:https://winerun5k.com/event/greenvale-vineyards-wine-run-5k-2/
CATEGORIES:Wine Run
ATTACH;FMTTYPE=image/jpeg:https://winerun5k.com/wp-content/uploads/2023/02/Banner-web-192x600-1.jpg
END:VEVENT
BEGIN:VEVENT
DTSTART;VALUE=DATE:20250713
DTEND;VALUE=DATE:20250714
DTSTAMP:20260423T222941
CREATED:20250325T152541Z
LAST-MODIFIED:20250325T152541Z
UID:15029-1752364800-1752451199@winerun5k.com
SUMMARY:12 Corners Wine Run 5k
DESCRIPTION:  \n  \n  \n \n\n\n\n\n\n\n\n\n\n\n\n\n\n\n\n\n\n12 Corners Vineyards\n1201 N Benton Center Rd\nBenton Harbor\, MI US 49022\nSun July 13\, 2025 | 9:00AM EDT
URL:https://winerun5k.com/event/12-corners-wine-run-5k-2/
CATEGORIES:Wine Run
ATTACH;FMTTYPE=image/jpeg:https://winerun5k.com/wp-content/uploads/2023/02/Banner-web-192x600-1.jpg
END:VEVENT
BEGIN:VEVENT
DTSTART;VALUE=DATE:20250712
DTEND;VALUE=DATE:20250713
DTSTAMP:20260423T222941
CREATED:20250325T152441Z
LAST-MODIFIED:20250325T152441Z
UID:15026-1752278400-1752364799@winerun5k.com
SUMMARY:Robinette’s Wine Run 5k
DESCRIPTION:  \n  \n  \n \n\n\n\n\n\n\n\n\n\n\n\n\n\n\n\n\n\nRobinette’s Apple Haus & Winery\n3142 4 Mile Rd NE\nGrand Rapids\, MI US 49525\nSat July 12\, 2025 | 9:00AM EDT
URL:https://winerun5k.com/event/robinettes-wine-run-5k-2/
CATEGORIES:Wine Run
ATTACH;FMTTYPE=image/jpeg:https://winerun5k.com/wp-content/uploads/2023/02/Banner-web-192x600-1.jpg
END:VEVENT
BEGIN:VEVENT
DTSTART;VALUE=DATE:20250706
DTEND;VALUE=DATE:20250707
DTSTAMP:20260423T222941
CREATED:20250325T152341Z
LAST-MODIFIED:20250325T152341Z
UID:15023-1751760000-1751846399@winerun5k.com
SUMMARY:Zorvino Vineyards Wine Run 5k
DESCRIPTION:  \n  \n  \n \n\n\n\n\n\n\n\n\n\n\n\n\n\n\n\n\n\nZorvino Vineyards\n226 Main St.\nSandown\, NH US 03873\nSun July 6\, 2025 | 9:00AM EDT
URL:https://winerun5k.com/event/zorvino-vineyards-wine-run-5k/
CATEGORIES:Wine Run
ATTACH;FMTTYPE=image/jpeg:https://winerun5k.com/wp-content/uploads/2023/02/Banner-web-192x600-1.jpg
END:VEVENT
BEGIN:VEVENT
DTSTART;VALUE=DATE:20250706
DTEND;VALUE=DATE:20250707
DTSTAMP:20260423T222941
CREATED:20250325T152223Z
LAST-MODIFIED:20250325T152223Z
UID:15020-1751760000-1751846399@winerun5k.com
SUMMARY:Ditmars Wine Run 5k
DESCRIPTION:  \n  \n  \n \n\n\n\n\n\n\n\n\n\n\n\n\n\n\n\n\n\nDitmars Orchard & Vineyard\n19475 225th Street\nCouncil Bluffs\, IA US 51503\nSun July 6\, 2025 | 9:00AM CDT
URL:https://winerun5k.com/event/ditmars-wine-run-5k-2/
CATEGORIES:Wine Run
ATTACH;FMTTYPE=image/jpeg:https://winerun5k.com/wp-content/uploads/2023/02/Banner-web-192x600-1.jpg
END:VEVENT
BEGIN:VEVENT
DTSTART;VALUE=DATE:20250629
DTEND;VALUE=DATE:20250630
DTSTAMP:20260423T222941
CREATED:20250325T152041Z
LAST-MODIFIED:20250325T152041Z
UID:15017-1751155200-1751241599@winerun5k.com
SUMMARY:Abacela Wine Run 5k
DESCRIPTION:  \n  \n  \n \n\n\n\n\n\n\n\n\n\n\n\n\n\n\n\n\n\nAbacela Winery\n12500 Lookingglass Rd\nRoseburg\, OR US 97471\nSun June 29\, 2025 | 9:00AM PDT
URL:https://winerun5k.com/event/abacela-wine-run-5k-2/
CATEGORIES:Wine Run
ATTACH;FMTTYPE=image/jpeg:https://winerun5k.com/wp-content/uploads/2023/02/Banner-web-192x600-1.jpg
END:VEVENT
BEGIN:VEVENT
DTSTART;VALUE=DATE:20250628
DTEND;VALUE=DATE:20250629
DTSTAMP:20260423T222941
CREATED:20250325T151928Z
LAST-MODIFIED:20250325T151928Z
UID:15014-1751068800-1751155199@winerun5k.com
SUMMARY:Benton-Lane Wine Run 5k & Half Marathon
DESCRIPTION:  \n  \n  \n \n\n\n\n\n\n\n\n\n\n\n\n\n\n\n\n\n\nBenton-Lane Winery\n23924 Territorial Rd\nMonroe\, OR US 97456\nSat June 28\, 2025 | 9:00AM PDT
URL:https://winerun5k.com/event/benton-lane-wine-run-5k-half-marathon/
CATEGORIES:Wine Run
ATTACH;FMTTYPE=image/jpeg:https://winerun5k.com/wp-content/uploads/2023/02/Banner-web-192x600-1.jpg
END:VEVENT
BEGIN:VEVENT
DTSTART;VALUE=DATE:20250628
DTEND;VALUE=DATE:20250629
DTSTAMP:20260423T222941
CREATED:20250325T151815Z
LAST-MODIFIED:20250325T151815Z
UID:15011-1751068800-1751155199@winerun5k.com
SUMMARY:Blu Dot Farm Wine Run 5k
DESCRIPTION:  \n  \n  \n \n\n\n\n\n\n\n\n\n\n\n\n\n\n\n\n\n\nBlu Dot Farm & Vineyard\n11399 Boyne City Rd\nCharlevoix\, MI US 49720\nSat June 28\, 2025 | 10:00AM EDT
URL:https://winerun5k.com/event/blu-dot-farm-wine-run-5k/
CATEGORIES:Wine Run
ATTACH;FMTTYPE=image/jpeg:https://winerun5k.com/wp-content/uploads/2023/02/Banner-web-192x600-1.jpg
END:VEVENT
BEGIN:VEVENT
DTSTART;VALUE=DATE:20250622
DTEND;VALUE=DATE:20250623
DTSTAMP:20260423T222941
CREATED:20250325T151631Z
LAST-MODIFIED:20250325T151631Z
UID:15008-1750550400-1750636799@winerun5k.com
SUMMARY:Living Water Wine Run 5k
DESCRIPTION:  \n  \n  \n \n\n\n\n\n\n\n\n\n\n\n\n\n\n\n\n\n\nLiving Water Winery & Vineyard\n291 Living Water Ln\nBlairsville\, GA US 30512\nSun June 22\, 2025 | 11:00AM EDT
URL:https://winerun5k.com/event/living-water-wine-run-5k/
CATEGORIES:Wine Run
ATTACH;FMTTYPE=image/jpeg:https://winerun5k.com/wp-content/uploads/2023/02/Banner-web-192x600-1.jpg
END:VEVENT
BEGIN:VEVENT
DTSTART;VALUE=DATE:20250622
DTEND;VALUE=DATE:20250623
DTSTAMP:20260423T222941
CREATED:20250325T151534Z
LAST-MODIFIED:20250325T151534Z
UID:15005-1750550400-1750636799@winerun5k.com
SUMMARY:Spencer Farm Wine Run 5k
DESCRIPTION:  \n  \n  \n \n\n\n\n\n\n\n\n\n\n\n\n\n\n\n\n\n\nSpencer Farm Winery\n7015 E 161st St\nNoblesville\, IN US 46062\nSun June 22\, 2025 | 9:00AM EDT
URL:https://winerun5k.com/event/spencer-farm-wine-run-5k/
CATEGORIES:Wine Run
ATTACH;FMTTYPE=image/jpeg:https://winerun5k.com/wp-content/uploads/2023/02/Banner-web-192x600-1.jpg
END:VEVENT
BEGIN:VEVENT
DTSTART;VALUE=DATE:20250621
DTEND;VALUE=DATE:20250622
DTSTAMP:20260423T222941
CREATED:20250325T151430Z
LAST-MODIFIED:20250325T151430Z
UID:15002-1750464000-1750550399@winerun5k.com
SUMMARY:Chattooga Belle Farm Wine Run 5k
DESCRIPTION:  \n  \n  \n \n\n\n\n\n\n\n\n\n\n\n\n\n\n\n\n\n\nChattooga Belle Farm\n454 Damascus Church Rd\nLong Creek\, SC US 29658\nSat June 21\, 2025 | 9:00AM EDT
URL:https://winerun5k.com/event/chattooga-belle-farm-wine-run-5k-2/
CATEGORIES:Wine Run
ATTACH;FMTTYPE=image/jpeg:https://winerun5k.com/wp-content/uploads/2023/02/Banner-web-192x600-1.jpg
END:VEVENT
BEGIN:VEVENT
DTSTART;VALUE=DATE:20250621
DTEND;VALUE=DATE:20250622
DTSTAMP:20260423T222941
CREATED:20250325T151321Z
LAST-MODIFIED:20250325T151321Z
UID:14999-1750464000-1750550399@winerun5k.com
SUMMARY:Helvetia Wine Run 5k
DESCRIPTION:  \n  \n  \n \n\n\n\n\n\n\n\n\n\n\n\n\n\n\n\n\n\nHelvetia Vineyards & Winery\n23269 NW Yungen Rd\nHillsboro\, OR US 97124\nSat June 21\, 2025 | 8:30AM PDT
URL:https://winerun5k.com/event/helvetia-wine-run-5k/
CATEGORIES:Wine Run
ATTACH;FMTTYPE=image/jpeg:https://winerun5k.com/wp-content/uploads/2023/02/Banner-web-192x600-1.jpg
END:VEVENT
BEGIN:VEVENT
DTSTART;VALUE=DATE:20250621
DTEND;VALUE=DATE:20250622
DTSTAMP:20260423T222941
CREATED:20250325T151007Z
LAST-MODIFIED:20250325T151007Z
UID:14996-1750464000-1750550399@winerun5k.com
SUMMARY:Huber’s Orchard Wine Run 5k
DESCRIPTION:  \n  \n  \n \n\n\n\n\n\n\n\n\n\n\n\n\n\n\n\n\n\nHuber’s Orchard & Winery\n19816 Huber Rd\nBorden\, IN US 47106\nSat June 21\, 2025 | 9:00AM EDT
URL:https://winerun5k.com/event/hubers-orchard-wine-run-5k/
CATEGORIES:Wine Run
ATTACH;FMTTYPE=image/jpeg:https://winerun5k.com/wp-content/uploads/2023/02/Banner-web-192x600-1.jpg
END:VEVENT
BEGIN:VEVENT
DTSTART;VALUE=DATE:20250614
DTEND;VALUE=DATE:20250615
DTSTAMP:20260423T222941
CREATED:20250325T150837Z
LAST-MODIFIED:20250325T150837Z
UID:14993-1749859200-1749945599@winerun5k.com
SUMMARY:Engelheim Vineyards Wine Run 5k
DESCRIPTION:  \n  \n  \n \n\n\n\n\n\n\n\n\n\n\n\n\n\n\n\n\n\nEngelheim Vineyards\n120 Lakeview Rd\nEllijay\, GA US 30540\nSat June 14\, 2025 | 9:00AM EDT
URL:https://winerun5k.com/event/engelheim-vineyards-wine-run-5k/
CATEGORIES:Wine Run
ATTACH;FMTTYPE=image/jpeg:https://winerun5k.com/wp-content/uploads/2023/02/Banner-web-192x600-1.jpg
END:VEVENT
BEGIN:VEVENT
DTSTART;VALUE=DATE:20250614
DTEND;VALUE=DATE:20250615
DTSTAMP:20260423T222941
CREATED:20250325T150701Z
LAST-MODIFIED:20250325T150701Z
UID:14988-1749859200-1749945599@winerun5k.com
SUMMARY:DC Estate Wine Run 5k
DESCRIPTION:  \n  \n  \n \n\n\n\n\n\n\n\n\n\n\n\n\n\n\n\n\n\nDC Estate Winery\n8877 Stateline Rd\nSouth Beloit\, IL US 61080\nSat June 14\, 2025 | 9:00AM CDT
URL:https://winerun5k.com/event/dc-estate-wine-run-5k/
CATEGORIES:Wine Run
ATTACH;FMTTYPE=image/jpeg:https://winerun5k.com/wp-content/uploads/2023/02/Banner-web-192x600-1.jpg
END:VEVENT
BEGIN:VEVENT
DTSTART;VALUE=DATE:20250613
DTEND;VALUE=DATE:20250614
DTSTAMP:20260423T222941
CREATED:20250325T150601Z
LAST-MODIFIED:20250325T150601Z
UID:14987-1749772800-1749859199@winerun5k.com
SUMMARY:Wilridge Wine Run 5k
DESCRIPTION:  \n  \n  \n \n\n\n\n\n\n\n\n\n\n\n\n\n\n\n\n\n\nWilridge Vineyard\, Winery & Distillery\n250 Ehler Rd\nYakima\, WA US 98908\nFri June 13\, 2025 | 6:00PM PDT
URL:https://winerun5k.com/event/wilridge-wine-run-5k/
CATEGORIES:Wine Run
ATTACH;FMTTYPE=image/jpeg:https://winerun5k.com/wp-content/uploads/2023/02/Banner-web-192x600-1.jpg
END:VEVENT
END:VCALENDAR