BEGIN:VCALENDAR
VERSION:2.0
PRODID:-//5K - ECPv6.15.20//NONSGML v1.0//EN
CALSCALE:GREGORIAN
METHOD:PUBLISH
X-WR-CALNAME:5K
X-ORIGINAL-URL:https://winerun5k.com
X-WR-CALDESC:Events for 5K
REFRESH-INTERVAL;VALUE=DURATION:PT1H
X-Robots-Tag:noindex
X-PUBLISHED-TTL:PT1H
BEGIN:VTIMEZONE
TZID:UTC
BEGIN:STANDARD
TZOFFSETFROM:+0000
TZOFFSETTO:+0000
TZNAME:UTC
DTSTART:20250101T000000
END:STANDARD
END:VTIMEZONE
BEGIN:VEVENT
DTSTART;VALUE=DATE:20260620
DTEND;VALUE=DATE:20260621
DTSTAMP:20260423T234716
CREATED:20260122T133327Z
LAST-MODIFIED:20260122T133327Z
UID:17450-1781913600-1781999999@winerun5k.com
SUMMARY:Huber’s Orchard Wine Run 5k
DESCRIPTION:  \n  \n  \n \n\n\n\n\n\n\n\n\n\n\n\n\n\n\n\n\n\n\n\n\n\nHuber’s Orchard & Winery\n19816 Huber Rd\nBorden\, IN US 47106\nSat June 20\, 2026 | 9:00AM EDT
URL:https://winerun5k.com/event/hubers-orchard-wine-run-5k-2/
CATEGORIES:Wine Run
ATTACH;FMTTYPE=image/jpeg:https://winerun5k.com/wp-content/uploads/2023/02/winerun-5k.jpg
END:VEVENT
BEGIN:VEVENT
DTSTART;VALUE=DATE:20260627
DTEND;VALUE=DATE:20260628
DTSTAMP:20260423T234716
CREATED:20260122T133500Z
LAST-MODIFIED:20260122T133500Z
UID:17466-1782518400-1782604799@winerun5k.com
SUMMARY:Balic Wine Run 5k
DESCRIPTION:  \n  \n  \n \n\n\n\n\n\n\n\n\n\n\n\n\n\n\n\n\n\n\n\n\n\nBalic Winery\n6623 Harding Hwy\nMays Landing\, NJ US 08330\nSat June 27\, 2026 | 9:00AM EDT
URL:https://winerun5k.com/event/balic-wine-run-5k/
CATEGORIES:Wine Run
ATTACH;FMTTYPE=image/jpeg:https://winerun5k.com/wp-content/uploads/2023/02/winerun-5k.jpg
END:VEVENT
BEGIN:VEVENT
DTSTART;VALUE=DATE:20260628
DTEND;VALUE=DATE:20260629
DTSTAMP:20260423T234716
CREATED:20260312T201323Z
LAST-MODIFIED:20260312T201323Z
UID:17799-1782604800-1782691199@winerun5k.com
SUMMARY:Abacela Wine Run 5k
DESCRIPTION:  \n  \n  \n \n\n\n\n\n\n\n\n\n\n\n\n\n\n\n\n\n\n\n\n\n\nAbacela Winery\n12500 Lookingglass Rd\nRoseburg\, OR US 97471\nSun June 28\, 2026 | 9:00AM PDT
URL:https://winerun5k.com/event/abacela-wine-run-5k-3/
CATEGORIES:Wine Run
ATTACH;FMTTYPE=image/jpeg:https://winerun5k.com/wp-content/uploads/2023/02/winerun-5k.jpg
END:VEVENT
BEGIN:VEVENT
DTSTART;VALUE=DATE:20260705
DTEND;VALUE=DATE:20260706
DTSTAMP:20260423T234716
CREATED:20260312T201837Z
LAST-MODIFIED:20260312T201837Z
UID:17802-1783209600-1783295999@winerun5k.com
SUMMARY:Ditmars Wine Run 5k
DESCRIPTION:  \n  \n  \n \n\n\n\n\n\n\n\n\n\n\n\n\n\n\n\n\n\n\n\n\n\nDitmars Orchard & Vineyard\n19475 225th Street\nCouncil Bluffs\, IA US 51503\nSun July 5\, 2026 | 9:00AM CDT
URL:https://winerun5k.com/event/ditmars-wine-run-5k-3/
CATEGORIES:Wine Run
ATTACH;FMTTYPE=image/jpeg:https://winerun5k.com/wp-content/uploads/2023/02/winerun-5k.jpg
END:VEVENT
BEGIN:VEVENT
DTSTART;VALUE=DATE:20260711
DTEND;VALUE=DATE:20260712
DTSTAMP:20260423T234716
CREATED:20260312T202139Z
LAST-MODIFIED:20260312T202139Z
UID:17805-1783728000-1783814399@winerun5k.com
SUMMARY:Robinette’s Wine Run 5k
DESCRIPTION:  \n  \n  \n \n\n\n\n\n\n\n\n\n\n\n\n\n\n\n\n\n\n\n\n\n\nRobinette’s Apple Haus & Winery\n3142 4 Mile Rd NE\nGrand Rapids\, MI US 49525\nSat July 11\, 2026 | 9:00AM EDT
URL:https://winerun5k.com/event/robinettes-wine-run-5k-3/
CATEGORIES:Wine Run
ATTACH;FMTTYPE=image/jpeg:https://winerun5k.com/wp-content/uploads/2023/02/winerun-5k.jpg
END:VEVENT
BEGIN:VEVENT
DTSTART;VALUE=DATE:20260712
DTEND;VALUE=DATE:20260713
DTSTAMP:20260423T234716
CREATED:20260312T202721Z
LAST-MODIFIED:20260312T202721Z
UID:17816-1783814400-1783900799@winerun5k.com
SUMMARY:12 Corners Wine Run 5k
DESCRIPTION:  \n  \n  \n \n\n\n\n\n\n\n\n\n\n\n\n\n\n\n\n\n\n\n\n\n\n12 Corners Vineyards\n1201 N Benton Center Rd\nBenton Harbor\, MI US 49022\nSun July 12\, 2026 | 9:00AM EDT
URL:https://winerun5k.com/event/12-corners-wine-run-5k-3/
CATEGORIES:Wine Run
ATTACH;FMTTYPE=image/jpeg:https://winerun5k.com/wp-content/uploads/2023/02/winerun-5k.jpg
END:VEVENT
BEGIN:VEVENT
DTSTART;VALUE=DATE:20260712
DTEND;VALUE=DATE:20260713
DTSTAMP:20260423T234716
CREATED:20260312T203117Z
LAST-MODIFIED:20260312T203117Z
UID:17820-1783814400-1783900799@winerun5k.com
SUMMARY:Zorvino Vineyards
DESCRIPTION:  \n  \n  \n \n\n\n\n\n\n\n\n\n\n\n\n\n\n\n\n\n\n\n\n\n\nZorvino Vineyards\n226 Main St.\nSandown\, NH US 03873\nSun July 12\, 2026 | 10:00AM EDT
URL:https://winerun5k.com/event/zorvino-vineyards-2/
CATEGORIES:Wine Run
ATTACH;FMTTYPE=image/jpeg:https://winerun5k.com/wp-content/uploads/2023/02/winerun-5k.jpg
END:VEVENT
BEGIN:VEVENT
DTSTART;VALUE=DATE:20260719
DTEND;VALUE=DATE:20260720
DTSTAMP:20260423T234716
CREATED:20260312T203439Z
LAST-MODIFIED:20260312T203439Z
UID:17823-1784419200-1784505599@winerun5k.com
SUMMARY:Greenvale Vineyards Wine Run 5k
DESCRIPTION:  \n  \n  \n \n\n\n\n\n\n\n\n\n\n\n\n\n\n\n\n\n\n\n\n\n\nGreenvale Vineyards\n582 Wapping Road\nPortsmouth\, RI US 02871\nSun July 19\, 2026 | 8:00AM EDT
URL:https://winerun5k.com/event/greenvale-vineyards-wine-run-5k-3/
CATEGORIES:Wine Run
ATTACH;FMTTYPE=image/jpeg:https://winerun5k.com/wp-content/uploads/2023/02/winerun-5k.jpg
END:VEVENT
BEGIN:VEVENT
DTSTART;VALUE=DATE:20260725
DTEND;VALUE=DATE:20260726
DTSTAMP:20260423T234716
CREATED:20260312T203848Z
LAST-MODIFIED:20260312T203959Z
UID:17826-1784937600-1785023999@winerun5k.com
SUMMARY:Inspire Moore Wine Run 5k
DESCRIPTION:  \n  \n  \n \n\n\n\n\n\n\n\n\n\n\n\n\n\n\n\n\n\n\n\n\n\nInspire Moore Winery\n187 N Main Street\nNaples\, NY US 14512\nSat July 25\, 2026 | 9:00AM EDT
URL:https://winerun5k.com/event/inspire-moore-wine-run-5k/
CATEGORIES:Wine Run
ATTACH;FMTTYPE=image/jpeg:https://winerun5k.com/wp-content/uploads/2023/02/winerun-5k.jpg
END:VEVENT
BEGIN:VEVENT
DTSTART;VALUE=DATE:20260801
DTEND;VALUE=DATE:20260802
DTSTAMP:20260423T234716
CREATED:20260312T204953Z
LAST-MODIFIED:20260312T205403Z
UID:17837-1785542400-1785628799@winerun5k.com
SUMMARY:Bordeleau Vineyards Wine Run 5k
DESCRIPTION:  \n  \n  \n \n\n\n\n\n\n\n\n\n\n\n\n\n\n\n\n\n\n\n\n\n\nBordeleau Vineyards & Winery\n3155 Noble Farm Rd\nEden\, MD US 21822\nSat August 1\, 2026 | 9:00AM EDT
URL:https://winerun5k.com/event/bordeleau-vineyards-wine-run-5k-2/
CATEGORIES:Wine Run
ATTACH;FMTTYPE=image/jpeg:https://winerun5k.com/wp-content/uploads/2023/02/winerun-5k.jpg
END:VEVENT
BEGIN:VEVENT
DTSTART;VALUE=DATE:20260816
DTEND;VALUE=DATE:20260817
DTSTAMP:20260423T234716
CREATED:20260312T204845Z
LAST-MODIFIED:20260312T204845Z
UID:17835-1786838400-1786924799@winerun5k.com
SUMMARY:Millbrook Vineyards Wine Run 5k
DESCRIPTION:  \n  \n  \n \n\n\n\n\n\n\n\n\n\n\n\n\n\n\n\n\n\n\n\n\n\nMillbrook Vineyards & Winery\n26 Wing Rd\nMillbrook\, NY US 12545\nSun August 16\, 2026 | 10:00AM EDT
URL:https://winerun5k.com/event/millbrook-vineyards-wine-run-5k-2/
CATEGORIES:Wine Run
ATTACH;FMTTYPE=image/jpeg:https://winerun5k.com/wp-content/uploads/2023/02/winerun-5k.jpg
END:VEVENT
BEGIN:VEVENT
DTSTART;VALUE=DATE:20260822
DTEND;VALUE=DATE:20260823
DTSTAMP:20260423T234716
CREATED:20260312T204651Z
LAST-MODIFIED:20260312T204651Z
UID:17832-1787356800-1787443199@winerun5k.com
SUMMARY:Chrysalis Vineyards Wine Run 5k
DESCRIPTION:  \n  \n  \n \n\n\n\n\n\n\n\n\n\n\n\n\n\n\n\n\n\n\n\n\n\nChrysalis Vineyards\n39025 Little River Turnpike\nMiddleburg\, VA US 20017\nSat August 22\, 2026 | 8:30AM EDT
URL:https://winerun5k.com/event/chrysalis-vineyards-wine-run-5k/
CATEGORIES:Wine Run
ATTACH;FMTTYPE=image/jpeg:https://winerun5k.com/wp-content/uploads/2023/02/winerun-5k.jpg
END:VEVENT
BEGIN:VEVENT
DTSTART;VALUE=DATE:20260823
DTEND;VALUE=DATE:20260824
DTSTAMP:20260423T234716
CREATED:20260312T204140Z
LAST-MODIFIED:20260312T204140Z
UID:17829-1787443200-1787529599@winerun5k.com
SUMMARY:Four Corners Wine Run 5k
DESCRIPTION:  \n  \n  \n \n\n\n\n\n\n\n\n\n\n\n\n\n\n\n\n\n\n\n\n\n\nFour Corners Winery\n294 E 600 N\nValparaiso\, IN US 46383\nSun August 23\, 2026 | 9:00AM CDT
URL:https://winerun5k.com/event/four-corners-wine-run-5k-2/
CATEGORIES:Wine Run
ATTACH;FMTTYPE=image/jpeg:https://winerun5k.com/wp-content/uploads/2023/02/winerun-5k.jpg
END:VEVENT
BEGIN:VEVENT
DTSTART;VALUE=DATE:20260829
DTEND;VALUE=DATE:20260830
DTSTAMP:20260423T234716
CREATED:20260312T202503Z
LAST-MODIFIED:20260312T202503Z
UID:17814-1787961600-1788047999@winerun5k.com
SUMMARY:5k Harvest Wine Run at Stoney Ridge Winery
DESCRIPTION:  \n  \n  \n \n\n\n\n\n\n\n\n\n\n\n\n\n\n\n\n\n\n\n\n\n\nStoney Ridge Winery\n7144 Williams Co Rd 16\nBryan\, OH US 43506\nSat August 29\, 2026 | 9:30AM EDT
URL:https://winerun5k.com/event/5k-harvest-wine-run-at-stoney-ridge-winery-2/
CATEGORIES:Wine Run
ATTACH;FMTTYPE=image/jpeg:https://winerun5k.com/wp-content/uploads/2023/02/winerun-5k.jpg
END:VEVENT
BEGIN:VEVENT
DTSTART;VALUE=DATE:20260907
DTEND;VALUE=DATE:20260908
DTSTAMP:20260423T234716
CREATED:20260312T202237Z
LAST-MODIFIED:20260312T202608Z
UID:17810-1788739200-1788825599@winerun5k.com
SUMMARY:Geneva Lake Distilling Wine Run 5k
DESCRIPTION:  \n  \n  \n \n\n\n\n\n\n\n\n\n\n\n\n\n\n\n\n\n\n\n\n\n\nGeneva Lake Distilling and Winery\n401 Sheridan Springs Rd\nLake Geneva\, WI US 53147\nMon September 7\, 2026 | 12:00PM CDT
URL:https://winerun5k.com/event/geneva-lake-distilling-wine-run-5k-2/
CATEGORIES:Wine Run
ATTACH;FMTTYPE=image/jpeg:https://winerun5k.com/wp-content/uploads/2023/02/winerun-5k.jpg
END:VEVENT
BEGIN:VEVENT
DTSTART;VALUE=DATE:20260913
DTEND;VALUE=DATE:20260914
DTSTAMP:20260423T234716
CREATED:20260312T202113Z
LAST-MODIFIED:20260312T202113Z
UID:17807-1789257600-1789343999@winerun5k.com
SUMMARY:Blue Ridge Winery Wine Run 5k
DESCRIPTION:  \n  \n  \n \n\n\n\n\n\n\n\n\n\n\n\n\n\n\n\n\n\n\n\n\n\nBlue Ridge Estate Vineyard & Winery\n239 Blue Ridge Rd\nSaylorsburg\, PA US 18353\nSun September 13\, 2026 | 9:00AM EDT
URL:https://winerun5k.com/event/blue-ridge-winery-wine-run-5k/
CATEGORIES:Wine Run
ATTACH;FMTTYPE=image/jpeg:https://winerun5k.com/wp-content/uploads/2023/02/winerun-5k.jpg
END:VEVENT
BEGIN:VEVENT
DTSTART;VALUE=DATE:20260913
DTEND;VALUE=DATE:20260914
DTSTAMP:20260423T234716
CREATED:20260312T205601Z
LAST-MODIFIED:20260312T205601Z
UID:17838-1789257600-1789343999@winerun5k.com
SUMMARY:Flying Otter Wine Run 5k
DESCRIPTION:  \n  \n  \n \n\n\n\n\n\n\n\n\n\n\n\n\n\n\n\n\n\n\n\n\n\nFlying Otter Vineyard & Winery\n3402 Chase Rd\nAdrian\, MI US 49221\nSat August 1\, 2026 | 4:00PM EDT
URL:https://winerun5k.com/event/flying-otter-wine-run-5k-2/
CATEGORIES:Wine Run
ATTACH;FMTTYPE=image/jpeg:https://winerun5k.com/wp-content/uploads/2023/02/winerun-5k.jpg
END:VEVENT
END:VCALENDAR