BEGIN:VCALENDAR
VERSION:2.0
PRODID:-//5K - ECPv6.15.20//NONSGML v1.0//EN
CALSCALE:GREGORIAN
METHOD:PUBLISH
X-WR-CALNAME:5K
X-ORIGINAL-URL:https://winerun5k.com
X-WR-CALDESC:Events for 5K
REFRESH-INTERVAL;VALUE=DURATION:PT1H
X-Robots-Tag:noindex
X-PUBLISHED-TTL:PT1H
BEGIN:VTIMEZONE
TZID:UTC
BEGIN:STANDARD
TZOFFSETFROM:+0000
TZOFFSETTO:+0000
TZNAME:UTC
DTSTART:20250101T000000
END:STANDARD
END:VTIMEZONE
BEGIN:VEVENT
DTSTART;VALUE=DATE:20260418
DTEND;VALUE=DATE:20260419
DTSTAMP:20260423T202437
CREATED:20260121T201032Z
LAST-MODIFIED:20260121T201032Z
UID:17415-1776470400-1776556799@winerun5k.com
SUMMARY:Eckert’s Belleville Farm Wine Run
DESCRIPTION:  \n  \n  \n \n\n\n\n\n\n\n\n\n\n\n\n\n\n\n\n\n\n\n\n\n\nEckert’s Belleville Farm\n951 S Green Mt Rd\nBelleville\, IL US 62220\nSat April 18\, 2026 | 9:00AM CDT
URL:https://winerun5k.com/event/eckerts-belleville-farm-wine-run/
CATEGORIES:Wine Run
ATTACH;FMTTYPE=image/jpeg:https://winerun5k.com/wp-content/uploads/2025/11/Eckerts-Belleville-Farm-Wine-Run-5k.jpg
END:VEVENT
BEGIN:VEVENT
DTSTART;VALUE=DATE:20260418
DTEND;VALUE=DATE:20260419
DTSTAMP:20260423T202437
CREATED:20260121T211331Z
LAST-MODIFIED:20260121T211331Z
UID:17414-1776470400-1776556799@winerun5k.com
SUMMARY:Hauser Hill Wine Run 5k
DESCRIPTION:  \n  \n  \n \n\n\n\n\n\n\n\n\n\n\n\n\n\n\n\n\n\n\n\n\n\nHauser Hill Event Center\n410 Cashtown Rd\nBiglerville\, PA US 17307\nSat April 18\, 2026 | 9:00AM EDT
URL:https://winerun5k.com/event/hauser-hill-wine-run-5k-2/
CATEGORIES:Wine Run
ATTACH;FMTTYPE=image/jpeg:https://winerun5k.com/wp-content/uploads/2025/11/Hauser-Hill-Wine-Run-5k.jpg
END:VEVENT
BEGIN:VEVENT
DTSTART;VALUE=DATE:20260419
DTEND;VALUE=DATE:20260420
DTSTAMP:20260423T202437
CREATED:20260121T211444Z
LAST-MODIFIED:20260121T211444Z
UID:17413-1776556800-1776643199@winerun5k.com
SUMMARY:CASS Wine Run 5k
DESCRIPTION:  \n  \n  \n \n\n\n\n\n\n\n\n\n\n\n\n\n\n\n\n\n\n\n\n\n\nCASS Winery\n7350 Linne Rd\nPaso Robles\, CA US 93446\nSun April 19\, 2026 | 10:00AM PDT
URL:https://winerun5k.com/event/cass-wine-run-5k-2/
CATEGORIES:Wine Run
ATTACH;FMTTYPE=image/jpeg:https://winerun5k.com/wp-content/uploads/2025/11/Cass-Wine-Run-5k.jpg
END:VEVENT
BEGIN:VEVENT
DTSTART;VALUE=DATE:20260425
DTEND;VALUE=DATE:20260426
DTSTAMP:20260423T202437
CREATED:20260121T214200Z
LAST-MODIFIED:20260121T214200Z
UID:17411-1777075200-1777161599@winerun5k.com
SUMMARY:Stone Villa Wine Run 5k
DESCRIPTION:  \n  \n  \n \n\n\n\n\n\n\n\n\n\n\n\n\n\n\n\n\n\n\n\n\n\nStone Villa Wine Cellars\n1085 Claypike Rd\nAcme\, PA US 15610\nSat April 25\, 2026 | 9:00AM EDT
URL:https://winerun5k.com/event/stone-villa-wine-run-5k-2/
CATEGORIES:Wine Run
ATTACH;FMTTYPE=image/jpeg:https://winerun5k.com/wp-content/uploads/2025/11/Stone-Villa-Wine-Run-5k.jpg
END:VEVENT
BEGIN:VEVENT
DTSTART;VALUE=DATE:20260426
DTEND;VALUE=DATE:20260427
DTSTAMP:20260423T202437
CREATED:20260121T211801Z
LAST-MODIFIED:20260121T211801Z
UID:17412-1777161600-1777247999@winerun5k.com
SUMMARY:Rock N Wool Wine Run 5k
DESCRIPTION:  \n  \n  \n \n\n\n\n\n\n\n\n\n\n\n\n\n\n\n\n\n\n\n\n\n\nRock N Wool Winery\nW7817 Drake Rd\nPoynette\, WI US 53955\nSun April 26\, 2026 | 10:00AM CDT
URL:https://winerun5k.com/event/rock-n-wool-wine-run-5k-2/
CATEGORIES:Wine Run
ATTACH;FMTTYPE=image/jpeg:https://winerun5k.com/wp-content/uploads/2023/02/winerun-5k.jpg
END:VEVENT
BEGIN:VEVENT
DTSTART;VALUE=DATE:20260426
DTEND;VALUE=DATE:20260427
DTSTAMP:20260423T202437
CREATED:20260121T214259Z
LAST-MODIFIED:20260121T214259Z
UID:17410-1777161600-1777247999@winerun5k.com
SUMMARY:Killing Tree Wine Run 5k
DESCRIPTION:  \n  \n  \n \n\n\n\n\n\n\n\n\n\n\n\n\n\n\n\n\n\n\n\n\n\nKilling Tree Winery\n16688 CR-4\nDresden\, OH US 43821\nSun April 26\, 2026 | 10:00AM EDT
URL:https://winerun5k.com/event/killing-tree-wine-run-5k-2/
CATEGORIES:Wine Run
ATTACH;FMTTYPE=image/jpeg:https://winerun5k.com/wp-content/uploads/2025/01/killing-tree.jpeg
END:VEVENT
BEGIN:VEVENT
DTSTART;VALUE=DATE:20260509
DTEND;VALUE=DATE:20260510
DTSTAMP:20260423T202437
CREATED:20260121T214537Z
LAST-MODIFIED:20260121T214537Z
UID:17432-1778284800-1778371199@winerun5k.com
SUMMARY:Colterris Wine Run 5k
DESCRIPTION:  \n  \n  \n \n\n\n\n\n\n\n\n\n\n\n\n\n\n\n\n\n\n\n\n\n\nColterris Winery\n3907 N River Rd\nPalisade\, CO US 81526\nSat May 9\, 2026 | 9:30AM MDT
URL:https://winerun5k.com/event/colterris-wine-run-5k/
CATEGORIES:Wine Run
ATTACH;FMTTYPE=image/jpeg:https://winerun5k.com/wp-content/uploads/2023/02/winerun-5k.jpg
END:VEVENT
BEGIN:VEVENT
DTSTART;VALUE=DATE:20260509
DTEND;VALUE=DATE:20260510
DTSTAMP:20260423T202437
CREATED:20260121T214631Z
LAST-MODIFIED:20260121T214631Z
UID:17431-1778284800-1778371199@winerun5k.com
SUMMARY:August Hill Wine Run 5k
DESCRIPTION:  \n  \n  \n \n\n\n\n\n\n\n\n\n\n\n\n\n\n\n\n\n\n\n\n\n\nAugust Hill Winery\n106 Mill St.\nUtica\, IL US 61373\nSat May 9\, 2026 | 9:00AM CDT
URL:https://winerun5k.com/event/august-hill-wine-run-5k-2/
CATEGORIES:Wine Run
ATTACH;FMTTYPE=image/jpeg:https://winerun5k.com/wp-content/uploads/2023/02/winerun-5k.jpg
END:VEVENT
BEGIN:VEVENT
DTSTART;VALUE=DATE:20260509
DTEND;VALUE=DATE:20260510
DTSTAMP:20260423T202437
CREATED:20260121T214836Z
LAST-MODIFIED:20260121T214946Z
UID:17430-1778284800-1778371199@winerun5k.com
SUMMARY:Hopewell Valley Vineyards Wine Run 5k
DESCRIPTION:  \n  \n  \n \n\n\n\n\n\n\n\n\n\n\n\n\n\n\n\n\n\n\n\n\n\nHopewell Valley Vineyards\n46 Yard Road\nPennington\, NJ US 08534\nSat May 9\, 2026 | 9:00AM EDT
URL:https://winerun5k.com/event/hopewell-valley-vineyards-wine-run-5k/
CATEGORIES:Wine Run
ATTACH;FMTTYPE=image/jpeg:https://winerun5k.com/wp-content/uploads/2023/02/winerun-5k.jpg
END:VEVENT
BEGIN:VEVENT
DTSTART;VALUE=DATE:20260517
DTEND;VALUE=DATE:20260518
DTSTAMP:20260423T202437
CREATED:20260121T220313Z
LAST-MODIFIED:20260121T220417Z
UID:17428-1778976000-1779062399@winerun5k.com
SUMMARY:Ledge Rock Hill Wine Run 5k
DESCRIPTION:  \n  \n  \n \n\n\n\n\n\n\n\n\n\n\n\n\n\n\n\n\n\n\n\n\n\nLedge Rock Hill Winery\n1776 US-9\nLake George\, NY US 12845\nSun May 17\, 2026 | 9:00AM EDT
URL:https://winerun5k.com/event/ledge-rock-hill-wine-run-5k/
CATEGORIES:Wine Run
ATTACH;FMTTYPE=image/jpeg:https://winerun5k.com/wp-content/uploads/2023/02/winerun-5k.jpg
END:VEVENT
BEGIN:VEVENT
DTSTART;VALUE=DATE:20260523
DTEND;VALUE=DATE:20260524
DTSTAMP:20260423T202437
CREATED:20260121T220552Z
LAST-MODIFIED:20260121T220552Z
UID:17438-1779494400-1779580799@winerun5k.com
SUMMARY:Indian Creek Wine Run 5k
DESCRIPTION:  \n  \n  \n \n\n\n\n\n\n\n\n\n\n\n\n\n\n\n\n\n\n\n\n\n\nIndian Creek Winery\n1000 N. McDermott Rd\nKuna\, ID US 83634\nSat May 23\, 2026 | 8:30AM MDT
URL:https://winerun5k.com/event/indian-creek-wine-run-5k-2/
CATEGORIES:Wine Run
ATTACH;FMTTYPE=image/jpeg:https://winerun5k.com/wp-content/uploads/2023/02/winerun-5k.jpg
END:VEVENT
BEGIN:VEVENT
DTSTART;VALUE=DATE:20260524
DTEND;VALUE=DATE:20260525
DTSTAMP:20260423T202437
CREATED:20260121T220703Z
LAST-MODIFIED:20260121T220703Z
UID:17440-1779580800-1779667199@winerun5k.com
SUMMARY:Cooper’s Hawk Wine Run 5k
DESCRIPTION:  \n  \n  \n \n\n\n\n\n\n\n\n\n\n\n\n\n\n\n\n\n\n\n\n\n\nCoopers Hawk Winery\n2307 E Lincoln Highway\nNew Lenox\, IL US 60451\nSun May 24\, 2026 | 9:00AM CDT
URL:https://winerun5k.com/event/coopers-hawk-wine-run-5k/
CATEGORIES:Wine Run
ATTACH;FMTTYPE=image/jpeg:https://winerun5k.com/wp-content/uploads/2023/02/winerun-5k.jpg
END:VEVENT
BEGIN:VEVENT
DTSTART;VALUE=DATE:20260525
DTEND;VALUE=DATE:20260526
DTSTAMP:20260423T202437
CREATED:20260121T220810Z
LAST-MODIFIED:20260121T220810Z
UID:17442-1779667200-1779753599@winerun5k.com
SUMMARY:Geneva Lake Distilling Wine Run 5k
DESCRIPTION:  \n  \n  \n \n\n\n\n\n\n\n\n\n\n\n\n\n\n\n\n\n\n\n\n\n\nGeneva Lake Distilling and Winery\n401 Sheridan Springs Rd\nLake Geneva\, WI US 53147\nMon May 25\, 2026 | 8:30AM CDT.
URL:https://winerun5k.com/event/geneva-lake-distilling-wine-run-5k/
CATEGORIES:Wine Run
ATTACH;FMTTYPE=image/jpeg:https://winerun5k.com/wp-content/uploads/2023/02/winerun-5k.jpg
END:VEVENT
BEGIN:VEVENT
DTSTART;VALUE=DATE:20260530
DTEND;VALUE=DATE:20260531
DTSTAMP:20260423T202437
CREATED:20260121T220926Z
LAST-MODIFIED:20260121T220926Z
UID:17445-1780099200-1780185599@winerun5k.com
SUMMARY:Telaya Wine Run 5k
DESCRIPTION:  \n  \n  \n \n\n\n\n\n\n\n\n\n\n\n\n\n\n\n\n\n\n\n\n\n\nTelaya Wine Co.\n240 E 32nd St\nGarden City\, ID US 83714\nSat May 30\, 2026 | 9:00AM MDT
URL:https://winerun5k.com/event/telaya-wine-run-5k-2/
CATEGORIES:Wine Run
ATTACH;FMTTYPE=image/jpeg:https://winerun5k.com/wp-content/uploads/2023/02/winerun-5k.jpg
END:VEVENT
BEGIN:VEVENT
DTSTART;VALUE=DATE:20260530
DTEND;VALUE=DATE:20260531
DTSTAMP:20260423T202437
CREATED:20260121T221038Z
LAST-MODIFIED:20260121T221038Z
UID:17444-1780099200-1780185599@winerun5k.com
SUMMARY:Vineyard at RiverWalk Wine Run 5k
DESCRIPTION:  \n  \n  \n \n\n\n\n\n\n\n\n\n\n\n\n\n\n\n\n\n\n\n\n\n\nSeven Birches Winery – RiverWalk Resort at Loon Mountain\n22 South Mountain Drive\nLincoln\, NH US 03251\nSat May 30\, 2026 | 10:00AM EDT
URL:https://winerun5k.com/event/vineyard-at-riverwalk-wine-run-5k-3/
CATEGORIES:Wine Run
ATTACH;FMTTYPE=image/jpeg:https://winerun5k.com/wp-content/uploads/2023/02/winerun-5k.jpg
END:VEVENT
BEGIN:VEVENT
DTSTART;VALUE=DATE:20260531
DTEND;VALUE=DATE:20260601
DTSTAMP:20260423T202437
CREATED:20260121T221153Z
LAST-MODIFIED:20260121T221153Z
UID:17448-1780185600-1780271999@winerun5k.com
SUMMARY:Mistie Hill Wine Run 5k
DESCRIPTION:  \n  \n  \n \n\n\n\n\n\n\n\n\n\n\n\n\n\n\n\n\n\n\n\n\n\nMistie Hill Vineyard\n36921 Ohlhues Rd\nCuster Park\, IL US 60481\nSun May 31\, 2026 | 9:00AM CDT
URL:https://winerun5k.com/event/mistie-hill-wine-run-5k/
CATEGORIES:Wine Run
ATTACH;FMTTYPE=image/jpeg:https://winerun5k.com/wp-content/uploads/2023/02/winerun-5k.jpg
END:VEVENT
BEGIN:VEVENT
DTSTART;VALUE=DATE:20260605
DTEND;VALUE=DATE:20260606
DTSTAMP:20260423T202437
CREATED:20260122T131956Z
LAST-MODIFIED:20260122T131956Z
UID:17457-1780617600-1780703999@winerun5k.com
SUMMARY:Terra Blanca Wine Run 5k
DESCRIPTION:  \n  \n  \n \n\n\n\n\n\n\n\n\n\n\n\n\n\n\n\n\n\n\n\n\n\nTerra Blanca Winery and Estate Vineyard\n34715 Demoss Rd\nBenton City\, WA US 99320\nFri June 5\, 2026 | 6:00PM PDT
URL:https://winerun5k.com/event/terra-blanca-wine-run-5k/
CATEGORIES:Wine Run
ATTACH;FMTTYPE=image/jpeg:https://winerun5k.com/wp-content/uploads/2023/02/winerun-5k.jpg
END:VEVENT
BEGIN:VEVENT
DTSTART;VALUE=DATE:20260606
DTEND;VALUE=DATE:20260607
DTSTAMP:20260423T202437
CREATED:20260122T132718Z
LAST-MODIFIED:20260122T132718Z
UID:17456-1780704000-1780790399@winerun5k.com
SUMMARY:Debonne Wine Run 5k
DESCRIPTION:  \n  \n  \n \n\n\n\n\n\n\n\n\n\n\n\n\n\n\n\n\n\n\n\n\n\nDebonne Vineyards\n7840 Doty Rd\nMadison\, OH US 44057\nSat June 6\, 2026 | 9:00AM EDT
URL:https://winerun5k.com/event/debonne-wine-run-5k-5/
CATEGORIES:Wine Run
ATTACH;FMTTYPE=image/jpeg:https://winerun5k.com/wp-content/uploads/2023/02/winerun-5k.jpg
END:VEVENT
BEGIN:VEVENT
DTSTART;VALUE=DATE:20260607
DTEND;VALUE=DATE:20260608
DTSTAMP:20260423T202437
CREATED:20260122T132821Z
LAST-MODIFIED:20260122T132821Z
UID:17454-1780790400-1780876799@winerun5k.com
SUMMARY:Barrel Oak Wine Run 5k
DESCRIPTION:  \n  \n  \n \n\n\n\n\n\n\n\n\n\n\n\n\n\n\n\n\n\n\n\n\n\nBarrel Oak Winery and Brewery\n3623 Grove Lane\nDelaplane\, VA US 20144\nSun June 7\, 2026 | 9:00AM EDT
URL:https://winerun5k.com/event/barrel-oak-wine-run-5k/
CATEGORIES:Wine Run
ATTACH;FMTTYPE=image/jpeg:https://winerun5k.com/wp-content/uploads/2023/02/winerun-5k.jpg
END:VEVENT
BEGIN:VEVENT
DTSTART;VALUE=DATE:20260612
DTEND;VALUE=DATE:20260613
DTSTAMP:20260423T202437
CREATED:20260122T132933Z
LAST-MODIFIED:20260122T132933Z
UID:17455-1781222400-1781308799@winerun5k.com
SUMMARY:Wilridge Wine Run 5k
DESCRIPTION:  \n  \n  \n \n\n\n\n\n\n\n\n\n\n\n\n\n\n\n\n\n\n\n\n\n\nWilridge Vineyard\, Winery & Distillery\n250 Ehler Rd\nYakima\, WA US 98908\nFri June 12\, 2026 | 6:00PM PDT
URL:https://winerun5k.com/event/wilridge-wine-run-5k-2/
CATEGORIES:Wine Run
ATTACH;FMTTYPE=image/jpeg:https://winerun5k.com/wp-content/uploads/2023/02/winerun-5k.jpg
END:VEVENT
BEGIN:VEVENT
DTSTART;VALUE=DATE:20260620
DTEND;VALUE=DATE:20260621
DTSTAMP:20260423T202437
CREATED:20260122T133021Z
LAST-MODIFIED:20260122T133021Z
UID:17453-1781913600-1781999999@winerun5k.com
SUMMARY:Helvetia Wine Run 5k
DESCRIPTION:  \n  \n  \n \n\n\n\n\n\n\n\n\n\n\n\n\n\n\n\n\n\n\n\n\n\nHelvetia Vineyards & Winery\n23269 NW Yungen Rd\nHillsboro\, OR US 97124\nSat June 20\, 2026 | 8:30AM PDT
URL:https://winerun5k.com/event/helvetia-wine-run-5k-2/
CATEGORIES:Wine Run
ATTACH;FMTTYPE=image/jpeg:https://winerun5k.com/wp-content/uploads/2023/02/winerun-5k.jpg
END:VEVENT
BEGIN:VEVENT
DTSTART;VALUE=DATE:20260620
DTEND;VALUE=DATE:20260621
DTSTAMP:20260423T202437
CREATED:20260122T133121Z
LAST-MODIFIED:20260122T133121Z
UID:17452-1781913600-1781999999@winerun5k.com
SUMMARY:Engelheim Vineyards Wine Run 5k
DESCRIPTION:  \n  \n  \n \n\n\n\n\n\n\n\n\n\n\n\n\n\n\n\n\n\n\n\n\n\nEngelheim Vineyards\n120 Lakeview Rd\nEllijay\, GA US 30540\nSat June 20\, 2026 | 8:30AM EDT
URL:https://winerun5k.com/event/engelheim-vineyards-wine-run-5k-2/
CATEGORIES:Wine Run
ATTACH;FMTTYPE=image/jpeg:https://winerun5k.com/wp-content/uploads/2023/02/winerun-5k.jpg
END:VEVENT
BEGIN:VEVENT
DTSTART;VALUE=DATE:20260620
DTEND;VALUE=DATE:20260621
DTSTAMP:20260423T202437
CREATED:20260122T133232Z
LAST-MODIFIED:20260122T133232Z
UID:17451-1781913600-1781999999@winerun5k.com
SUMMARY:DC Estate Wine Run 5k
DESCRIPTION:  \n  \n  \n \n\n\n\n\n\n\n\n\n\n\n\n\n\n\n\n\n\n\n\n\n\nDC Estate Winery\n8877 Stateline Rd\nSouth Beloit\, IL US 61080\nSat June 20\, 2026 | 9:00AM CDT
URL:https://winerun5k.com/event/dc-estate-wine-run-5k-2/
CATEGORIES:Wine Run
ATTACH;FMTTYPE=image/jpeg:https://winerun5k.com/wp-content/uploads/2023/02/winerun-5k.jpg
END:VEVENT
BEGIN:VEVENT
DTSTART;VALUE=DATE:20260620
DTEND;VALUE=DATE:20260621
DTSTAMP:20260423T202437
CREATED:20260122T133327Z
LAST-MODIFIED:20260122T133327Z
UID:17450-1781913600-1781999999@winerun5k.com
SUMMARY:Huber’s Orchard Wine Run 5k
DESCRIPTION:  \n  \n  \n \n\n\n\n\n\n\n\n\n\n\n\n\n\n\n\n\n\n\n\n\n\nHuber’s Orchard & Winery\n19816 Huber Rd\nBorden\, IN US 47106\nSat June 20\, 2026 | 9:00AM EDT
URL:https://winerun5k.com/event/hubers-orchard-wine-run-5k-2/
CATEGORIES:Wine Run
ATTACH;FMTTYPE=image/jpeg:https://winerun5k.com/wp-content/uploads/2023/02/winerun-5k.jpg
END:VEVENT
BEGIN:VEVENT
DTSTART;VALUE=DATE:20260627
DTEND;VALUE=DATE:20260628
DTSTAMP:20260423T202437
CREATED:20260122T133500Z
LAST-MODIFIED:20260122T133500Z
UID:17466-1782518400-1782604799@winerun5k.com
SUMMARY:Balic Wine Run 5k
DESCRIPTION:  \n  \n  \n \n\n\n\n\n\n\n\n\n\n\n\n\n\n\n\n\n\n\n\n\n\nBalic Winery\n6623 Harding Hwy\nMays Landing\, NJ US 08330\nSat June 27\, 2026 | 9:00AM EDT
URL:https://winerun5k.com/event/balic-wine-run-5k/
CATEGORIES:Wine Run
ATTACH;FMTTYPE=image/jpeg:https://winerun5k.com/wp-content/uploads/2023/02/winerun-5k.jpg
END:VEVENT
BEGIN:VEVENT
DTSTART;VALUE=DATE:20260628
DTEND;VALUE=DATE:20260629
DTSTAMP:20260423T202437
CREATED:20260312T201323Z
LAST-MODIFIED:20260312T201323Z
UID:17799-1782604800-1782691199@winerun5k.com
SUMMARY:Abacela Wine Run 5k
DESCRIPTION:  \n  \n  \n \n\n\n\n\n\n\n\n\n\n\n\n\n\n\n\n\n\n\n\n\n\nAbacela Winery\n12500 Lookingglass Rd\nRoseburg\, OR US 97471\nSun June 28\, 2026 | 9:00AM PDT
URL:https://winerun5k.com/event/abacela-wine-run-5k-3/
CATEGORIES:Wine Run
ATTACH;FMTTYPE=image/jpeg:https://winerun5k.com/wp-content/uploads/2023/02/winerun-5k.jpg
END:VEVENT
BEGIN:VEVENT
DTSTART;VALUE=DATE:20260705
DTEND;VALUE=DATE:20260706
DTSTAMP:20260423T202437
CREATED:20260312T201837Z
LAST-MODIFIED:20260312T201837Z
UID:17802-1783209600-1783295999@winerun5k.com
SUMMARY:Ditmars Wine Run 5k
DESCRIPTION:  \n  \n  \n \n\n\n\n\n\n\n\n\n\n\n\n\n\n\n\n\n\n\n\n\n\nDitmars Orchard & Vineyard\n19475 225th Street\nCouncil Bluffs\, IA US 51503\nSun July 5\, 2026 | 9:00AM CDT
URL:https://winerun5k.com/event/ditmars-wine-run-5k-3/
CATEGORIES:Wine Run
ATTACH;FMTTYPE=image/jpeg:https://winerun5k.com/wp-content/uploads/2023/02/winerun-5k.jpg
END:VEVENT
BEGIN:VEVENT
DTSTART;VALUE=DATE:20260711
DTEND;VALUE=DATE:20260712
DTSTAMP:20260423T202437
CREATED:20260312T202139Z
LAST-MODIFIED:20260312T202139Z
UID:17805-1783728000-1783814399@winerun5k.com
SUMMARY:Robinette’s Wine Run 5k
DESCRIPTION:  \n  \n  \n \n\n\n\n\n\n\n\n\n\n\n\n\n\n\n\n\n\n\n\n\n\nRobinette’s Apple Haus & Winery\n3142 4 Mile Rd NE\nGrand Rapids\, MI US 49525\nSat July 11\, 2026 | 9:00AM EDT
URL:https://winerun5k.com/event/robinettes-wine-run-5k-3/
CATEGORIES:Wine Run
ATTACH;FMTTYPE=image/jpeg:https://winerun5k.com/wp-content/uploads/2023/02/winerun-5k.jpg
END:VEVENT
BEGIN:VEVENT
DTSTART;VALUE=DATE:20260712
DTEND;VALUE=DATE:20260713
DTSTAMP:20260423T202437
CREATED:20260312T202721Z
LAST-MODIFIED:20260312T202721Z
UID:17816-1783814400-1783900799@winerun5k.com
SUMMARY:12 Corners Wine Run 5k
DESCRIPTION:  \n  \n  \n \n\n\n\n\n\n\n\n\n\n\n\n\n\n\n\n\n\n\n\n\n\n12 Corners Vineyards\n1201 N Benton Center Rd\nBenton Harbor\, MI US 49022\nSun July 12\, 2026 | 9:00AM EDT
URL:https://winerun5k.com/event/12-corners-wine-run-5k-3/
CATEGORIES:Wine Run
ATTACH;FMTTYPE=image/jpeg:https://winerun5k.com/wp-content/uploads/2023/02/winerun-5k.jpg
END:VEVENT
BEGIN:VEVENT
DTSTART;VALUE=DATE:20260712
DTEND;VALUE=DATE:20260713
DTSTAMP:20260423T202437
CREATED:20260312T203117Z
LAST-MODIFIED:20260312T203117Z
UID:17820-1783814400-1783900799@winerun5k.com
SUMMARY:Zorvino Vineyards
DESCRIPTION:  \n  \n  \n \n\n\n\n\n\n\n\n\n\n\n\n\n\n\n\n\n\n\n\n\n\nZorvino Vineyards\n226 Main St.\nSandown\, NH US 03873\nSun July 12\, 2026 | 10:00AM EDT
URL:https://winerun5k.com/event/zorvino-vineyards-2/
CATEGORIES:Wine Run
ATTACH;FMTTYPE=image/jpeg:https://winerun5k.com/wp-content/uploads/2023/02/winerun-5k.jpg
END:VEVENT
END:VCALENDAR