BEGIN:VCALENDAR
VERSION:2.0
PRODID:-//5K - ECPv6.15.20//NONSGML v1.0//EN
CALSCALE:GREGORIAN
METHOD:PUBLISH
X-ORIGINAL-URL:https://winerun5k.com
X-WR-CALDESC:Events for 5K
REFRESH-INTERVAL;VALUE=DURATION:PT1H
X-Robots-Tag:noindex
X-PUBLISHED-TTL:PT1H
BEGIN:VTIMEZONE
TZID:UTC
BEGIN:STANDARD
TZOFFSETFROM:+0000
TZOFFSETTO:+0000
TZNAME:UTC
DTSTART:20230101T000000
END:STANDARD
END:VTIMEZONE
BEGIN:VEVENT
DTSTART;VALUE=DATE:20250413
DTEND;VALUE=DATE:20250414
DTSTAMP:20260424T055756
CREATED:20250312T151754Z
LAST-MODIFIED:20250312T151754Z
UID:14671-1744502400-1744588799@winerun5k.com
SUMMARY:Mari Vineyards Wine Run 5k
DESCRIPTION:  \n  \n  \n \n\n\n\n\n\n\n\n\n\n\n\n\n\n\n\n\n\nMari Vineyards\n8175 Center Rd\nTraverse City\, MI US 49686\nSun April 13\, 2025 | 9:00AM EDT
URL:https://winerun5k.com/event/mari-vineyards-wine-run-5k/
CATEGORIES:Wine Run
ATTACH;FMTTYPE=image/jpeg:https://winerun5k.com/wp-content/uploads/2023/02/Banner-web-192x600-1.jpg
END:VEVENT
BEGIN:VEVENT
DTSTART;VALUE=DATE:20250413
DTEND;VALUE=DATE:20250414
DTSTAMP:20260424T055756
CREATED:20250312T151625Z
LAST-MODIFIED:20250312T151631Z
UID:14668-1744502400-1744588799@winerun5k.com
SUMMARY:Grace Hill Wine Run 5k
DESCRIPTION:  \n  \n  \n \n\n\n\n\n\n\n\n\n\n\n\n\n\n\n\n\n\nGrace Hill Winery\n6310 S Grace Hill Rd\nWhitewater\, KS US 67154\nSun April 13\, 2025 | 9:00AM CDT
URL:https://winerun5k.com/event/grace-hill-wine-run-5k-2/
CATEGORIES:Wine Run
ATTACH;FMTTYPE=image/jpeg:https://winerun5k.com/wp-content/uploads/2023/02/Banner-web-192x600-1.jpg
END:VEVENT
BEGIN:VEVENT
DTSTART;VALUE=DATE:20250412
DTEND;VALUE=DATE:20250413
DTSTAMP:20260424T055756
CREATED:20250312T151451Z
LAST-MODIFIED:20250312T151451Z
UID:14665-1744416000-1744502399@winerun5k.com
SUMMARY:Llano Estacado Wine Run 5k
DESCRIPTION:  \n  \n  \n \n\n\n\n\n\n\n\n\n\n\n\n\n\n\n\n\n\nLlano Estacado Winery\n3426 F M 1585\nLubbock\, TX US 79404\nSat April 12\, 2025 | 9:00AM CDT
URL:https://winerun5k.com/event/llano-estacado-wine-run-5k-3/
CATEGORIES:Wine Run
ATTACH;FMTTYPE=image/jpeg:https://winerun5k.com/wp-content/uploads/2023/02/Banner-web-192x600-1.jpg
END:VEVENT
BEGIN:VEVENT
DTSTART;VALUE=DATE:20250412
DTEND;VALUE=DATE:20250413
DTSTAMP:20260424T055756
CREATED:20250312T151334Z
LAST-MODIFIED:20250312T151334Z
UID:14663-1744416000-1744502399@winerun5k.com
SUMMARY:Big Cork Wine Run 5k
DESCRIPTION:  \n  \n  \n \n\n\n\n\n\n\n\n\n\n\n\n\n\n\n\n\n\nBig Cork Vineyards\n4236 Main Street\nRohrersville\, MD US 21779\nSat April 12\, 2025 | 9:00AM EDT
URL:https://winerun5k.com/event/big-cork-wine-run-5k/
CATEGORIES:Wine Run
ATTACH;FMTTYPE=image/jpeg:https://winerun5k.com/wp-content/uploads/2023/02/Banner-web-192x600-1.jpg
END:VEVENT
BEGIN:VEVENT
DTSTART;VALUE=DATE:20250412
DTEND;VALUE=DATE:20250413
DTSTAMP:20260424T055756
CREATED:20250312T151221Z
LAST-MODIFIED:20250312T151221Z
UID:14660-1744416000-1744502399@winerun5k.com
SUMMARY:Wild Blossom Wine Run 5k
DESCRIPTION:  \n  \n  \n \n\n\n\n\n\n\n\n\n\n\n\n\n\n\n\n\n\nWild Blossom Meadery & Winery\n9030 S Hermitage Ave\nChicago\, IL US 60620\nSat April 12\, 2025 | 8:00AM CDT
URL:https://winerun5k.com/event/wild-blossom-wine-run-5k-2/
CATEGORIES:Wine Run
ATTACH;FMTTYPE=image/jpeg:https://winerun5k.com/wp-content/uploads/2023/02/Banner-web-192x600-1.jpg
END:VEVENT
BEGIN:VEVENT
DTSTART;VALUE=DATE:20250406
DTEND;VALUE=DATE:20250407
DTSTAMP:20260424T055756
CREATED:20250312T151056Z
LAST-MODIFIED:20250312T151105Z
UID:14657-1743897600-1743983999@winerun5k.com
SUMMARY:Castel Grisch Wine Run 5k
DESCRIPTION:  \n  \n  \n \n\n\n\n\n\n\n\n\n\n\n\n\n\n\n\n\n\nCastel Grisch Winery\n3380 County Rd 28\nWatkins Glen\, NY US 14891\nSun April 6\, 2025 | 9:00AM EDT
URL:https://winerun5k.com/event/castel-grisch-wine-run-5k/
CATEGORIES:Wine Run
ATTACH;FMTTYPE=image/jpeg:https://winerun5k.com/wp-content/uploads/2023/02/Banner-web-192x600-1.jpg
END:VEVENT
BEGIN:VEVENT
DTSTART;VALUE=DATE:20250405
DTEND;VALUE=DATE:20250406
DTSTAMP:20260424T055756
CREATED:20250312T150936Z
LAST-MODIFIED:20250312T150936Z
UID:14654-1743811200-1743897599@winerun5k.com
SUMMARY:Nelson Family Vineyards Wine Run 5k
DESCRIPTION:  \n  \n  \n \n\n\n\n\n\n\n\n\n\n\n\n\n\n\n\n\n\nNelson Family Vineyards\n550 Nelson Ranch Rd\nUkiah\, CA US 95482\nSat April 5\, 2025 | 11:00AM PDT
URL:https://winerun5k.com/event/nelson-family-vineyards-wine-run-5k/
CATEGORIES:Wine Run
ATTACH;FMTTYPE=image/jpeg:https://winerun5k.com/wp-content/uploads/2023/02/Banner-web-192x600-1.jpg
END:VEVENT
BEGIN:VEVENT
DTSTART;VALUE=DATE:20250405
DTEND;VALUE=DATE:20250406
DTSTAMP:20260424T055756
CREATED:20250312T150833Z
LAST-MODIFIED:20250312T150833Z
UID:14651-1743811200-1743897599@winerun5k.com
SUMMARY:Enoch’s Stomp Wine Run 5k
DESCRIPTION:  \n  \n  \n \n\n\n\n\n\n\n\n\n\n\n\n\n\n\n\n\nEnoch’s Stomp Vineyard and Winery\n871 Ferguson Rd\nHarleton\, TX US 75651\nSat April 5\, 2025 | 10:30AM CDT
URL:https://winerun5k.com/event/enochs-stomp-wine-run-5k-2/
CATEGORIES:Wine Run
ATTACH;FMTTYPE=image/jpeg:https://winerun5k.com/wp-content/uploads/2023/02/Banner-web-192x600-1.jpg
END:VEVENT
BEGIN:VEVENT
DTSTART;VALUE=DATE:20250405
DTEND;VALUE=DATE:20250406
DTSTAMP:20260424T055756
CREATED:20250312T150715Z
LAST-MODIFIED:20250312T150715Z
UID:14649-1743811200-1743897599@winerun5k.com
SUMMARY:Lu Mil Wine Run 5k
DESCRIPTION:  \n  \n  \n \n\n\n\n\n\n\n\n\n\n\n\n\n\n\n\n\n\n\n\nLu Mil Vineyard\n438 Suggs-Taylor Rd\nElizabethtown\, NC US 28337\nSat April 5\, 2025 | 10:00AM EDTT
URL:https://winerun5k.com/event/lu-mil-wine-run-5k-3/
CATEGORIES:Wine Run
ATTACH;FMTTYPE=image/jpeg:https://winerun5k.com/wp-content/uploads/2023/02/Banner-web-192x600-1.jpg
END:VEVENT
BEGIN:VEVENT
DTSTART;VALUE=DATE:20250405
DTEND;VALUE=DATE:20250406
DTSTAMP:20260424T055756
CREATED:20250312T150603Z
LAST-MODIFIED:20250312T150603Z
UID:14646-1743811200-1743897599@winerun5k.com
SUMMARY:Z&M Twisted Vines Wine Run 5k
DESCRIPTION:  \n  \n  \n \n\n\n\n\n\n\n\n\n\n\n\n\n\n\n\n\n\n\n\nZ&M Twisted Vines Winery and Vineyard\n24305 Loring Rd\nLawrence\, KS US 6604\nSat April 5\, 2025 | 9:00AM CDT
URL:https://winerun5k.com/event/zm-twisted-vines-wine-run-5k-3/
CATEGORIES:Wine Run
ATTACH;FMTTYPE=image/jpeg:https://winerun5k.com/wp-content/uploads/2023/02/Banner-web-192x600-1.jpg
END:VEVENT
BEGIN:VEVENT
DTSTART;VALUE=DATE:20250330
DTEND;VALUE=DATE:20250331
DTSTAMP:20260424T055756
CREATED:20250312T150437Z
LAST-MODIFIED:20250312T150437Z
UID:14643-1743292800-1743379199@winerun5k.com
SUMMARY:Tooth & Nail Wine Run 5k
DESCRIPTION:  \n  \n  \n \n\n\n\n\n\n\n\n\n\n\n\n\n\n\n\n\n\n\n\nTooth & Nail House of Wine\n3090 Anderson Rd\nPaso Robles\, CA US 93446\nSun March 30\, 2025 | 9:00AM PDT
URL:https://winerun5k.com/event/tooth-nail-wine-run-5k/
CATEGORIES:Wine Run
ATTACH;FMTTYPE=image/jpeg:https://winerun5k.com/wp-content/uploads/2023/02/Banner-web-192x600-1.jpg
END:VEVENT
BEGIN:VEVENT
DTSTART;VALUE=DATE:20250329
DTEND;VALUE=DATE:20250330
DTSTAMP:20260424T055756
CREATED:20250312T150205Z
LAST-MODIFIED:20250312T150205Z
UID:14641-1743206400-1743292799@winerun5k.com
SUMMARY:Eden Rift Wine Run 5k
DESCRIPTION:  \n  \n  \n \n\n\n\n\n\n\n\n\n\n\n\n\n\n\n\n\n\n\n\n\nEden Rift Vineyards\n10034 Cienega\nHollister\, CA US 95023\nSat March 29\, 2025 | 9:00AM PDT
URL:https://winerun5k.com/event/eden-rift-wine-run-5k/
CATEGORIES:Wine Run
ATTACH;FMTTYPE=image/jpeg:https://winerun5k.com/wp-content/uploads/2023/02/Banner-web-192x600-1.jpg
END:VEVENT
BEGIN:VEVENT
DTSTART;VALUE=DATE:20250329
DTEND;VALUE=DATE:20250330
DTSTAMP:20260424T055756
CREATED:20250312T145102Z
LAST-MODIFIED:20250312T145102Z
UID:14639-1743206400-1743292799@winerun5k.com
SUMMARY:Flat Creek Estate Wine Run 5k
DESCRIPTION:  \n  \n  \n \n\n\n\n\n\n\n\n\n\n\n\n\n\n\n\n\n\n\n\n\nEckert’s Belleville Farm\n951 S Green Mt Rd\nBelleville\, IL US 62220\nSat March 29\, 2025 | 9:00AM CDT
URL:https://winerun5k.com/event/flat-creek-estate-wine-run-5k/
CATEGORIES:Wine Run
ATTACH;FMTTYPE=image/jpeg:https://winerun5k.com/wp-content/uploads/2023/02/Banner-web-192x600-1.jpg
END:VEVENT
BEGIN:VEVENT
DTSTART;VALUE=DATE:20250329
DTEND;VALUE=DATE:20250330
DTSTAMP:20260424T055756
CREATED:20250312T144926Z
LAST-MODIFIED:20250312T144926Z
UID:14636-1743206400-1743292799@winerun5k.com
SUMMARY:Eckert’s Belleville Farm Wine Run 5k
DESCRIPTION:  \n  \n  \n \n\n\n\n\n\n\n\n\n\n\n\n\n\n\n\n\n\n\n\n\nEckert’s Belleville Farm\n951 S Green Mt Rd\nBelleville\, IL US 62220\nSat March 29\, 2025 | 9:00AM CDT
URL:https://winerun5k.com/event/eckerts-belleville-farm-wine-run-5k/
CATEGORIES:Wine Run
ATTACH;FMTTYPE=image/jpeg:https://winerun5k.com/wp-content/uploads/2023/02/Banner-web-192x600-1.jpg
END:VEVENT
BEGIN:VEVENT
DTSTART;VALUE=DATE:20250329
DTEND;VALUE=DATE:20250330
DTSTAMP:20260424T055756
CREATED:20250312T142710Z
LAST-MODIFIED:20250312T144951Z
UID:14632-1743206400-1743292799@winerun5k.com
SUMMARY:TerraVox Vineyards Wine Run 5k
DESCRIPTION:  \n  \n  \n \n\n\n\n\n\n\n\n\n\n\n\n\n\n\n\n\n\n\n\n\nTerraVox Vineyards\n19310 NW Farley Hampton Road\nKansas City\, MO US 64153\nSat March 29\, 2025 | 9:00AM CDT
URL:https://winerun5k.com/event/terravox-vineyards-wine-run-5k-3/
CATEGORIES:Wine Run
ATTACH;FMTTYPE=image/jpeg:https://winerun5k.com/wp-content/uploads/2023/02/Banner-web-192x600-1.jpg
END:VEVENT
BEGIN:VEVENT
DTSTART;VALUE=DATE:20250323
DTEND;VALUE=DATE:20250324
DTSTAMP:20260424T055756
CREATED:20241113T152425Z
LAST-MODIFIED:20241113T152430Z
UID:13722-1742688000-1742774399@winerun5k.com
SUMMARY:Viansa Wine Run 5k
DESCRIPTION:  \n  \n  \n \n\n\n\n\n\n\n\n\n\n\n\n\n\n\n\n\n\n\n\n\nViansa Winery\n25200 Arnold Dr\nSonoma\, CA US 95476\nSun March 23\, 2025 | 9:00AM PDT
URL:https://winerun5k.com/event/viansa-wine-run-5k/
CATEGORIES:Wine Run
ATTACH;FMTTYPE=image/jpeg:https://winerun5k.com/wp-content/uploads/2023/02/Banner-web-192x600-1.jpg
END:VEVENT
BEGIN:VEVENT
DTSTART;VALUE=DATE:20250315
DTEND;VALUE=DATE:20250316
DTSTAMP:20260424T055756
CREATED:20241113T152329Z
LAST-MODIFIED:20241113T152329Z
UID:13719-1741996800-1742083199@winerun5k.com
SUMMARY:Ridgeview Wine Run 5k
DESCRIPTION:  \n  \n  \n \n\n\n\n\n\n\n\n\n\n\n\n\n\n\n\n\n\n\n\n\nRidgeview Farm Vineyards & Brewing Co\n8375 Carpet Road\nNew Tripoli\, PA US 18066\nSat March 15\, 2025 | 9:00AM EDT
URL:https://winerun5k.com/event/ridgeview-wine-run-5k-2/
CATEGORIES:Wine Run
ATTACH;FMTTYPE=image/jpeg:https://winerun5k.com/wp-content/uploads/2023/02/Banner-web-192x600-1.jpg
END:VEVENT
BEGIN:VEVENT
DTSTART;VALUE=DATE:20250301
DTEND;VALUE=DATE:20250302
DTSTAMP:20260424T055756
CREATED:20241113T152224Z
LAST-MODIFIED:20241113T152224Z
UID:13716-1740787200-1740873599@winerun5k.com
SUMMARY:Rosenthal Wine Run 5k
DESCRIPTION:  \n  \n  \n \n\n\n\n\n\n\n\n\n\n\n\n\n\n\n\n\n\n\n\n\nRosenthal Wine Bar & Patio (The Malibu Estate)\n18741 Pacific Coast Highway\nMalibu\, CA US 90265\nSat March 1\, 2025 | 8:00AM PST
URL:https://winerun5k.com/event/rosenthal-wine-run-5k-2/
CATEGORIES:Wine Run
ATTACH;FMTTYPE=image/jpeg:https://winerun5k.com/wp-content/uploads/2023/02/Banner-web-192x600-1.jpg
END:VEVENT
BEGIN:VEVENT
DTSTART;VALUE=DATE:20250216
DTEND;VALUE=DATE:20250217
DTSTAMP:20260424T055756
CREATED:20241113T152125Z
LAST-MODIFIED:20241113T152125Z
UID:13713-1739664000-1739750399@winerun5k.com
SUMMARY:Medella Vina Ranch Wine Run 5k
DESCRIPTION:  \n  \n  \n \n\n\n\n\n\n\n\n\n\n\n\n\n\n\n\n\n\n\n\n\nMedella Vina Ranch\n4450 S. Houghton\nTucson\, AZ US 85730\nSun February 16\, 2025 | 11:30AM MST
URL:https://winerun5k.com/event/medella-vina-ranch-wine-run-5k/
CATEGORIES:Wine Run
ATTACH;FMTTYPE=image/jpeg:https://winerun5k.com/wp-content/uploads/2023/02/Banner-web-192x600-1.jpg
END:VEVENT
BEGIN:VEVENT
DTSTART;VALUE=DATE:20250215
DTEND;VALUE=DATE:20250216
DTSTAMP:20260424T055756
CREATED:20241113T151903Z
LAST-MODIFIED:20241113T151903Z
UID:13710-1739577600-1739663999@winerun5k.com
SUMMARY:Sonoita Vineyards Wine Run 5k
DESCRIPTION:  \n  \n  \n \n\n\n\n\n\n\n\n\n\n\n\n\n\n\n\n\n\n\n\n\nSonoita Vineyards\n290 Elgin Canelo Rd\nElgin\, AZ US 85611\nSat February 15\, 2025 | 9:00AM MST
URL:https://winerun5k.com/event/sonoita-vineyards-wine-run-5k/
CATEGORIES:Wine Run
ATTACH;FMTTYPE=image/jpeg:https://winerun5k.com/wp-content/uploads/2023/02/Banner-web-192x600-1.jpg
END:VEVENT
BEGIN:VEVENT
DTSTART;VALUE=DATE:20250209
DTEND;VALUE=DATE:20250210
DTSTAMP:20260424T055756
CREATED:20241113T151749Z
LAST-MODIFIED:20241113T151749Z
UID:13707-1739059200-1739145599@winerun5k.com
SUMMARY:Birds and Barrels Wine Run 5k
DESCRIPTION:  \n  \n  \n \n\n\n\n\n\n\n\n\n\n\n\n\n\n\n\n\n\n\n\n\nBirds and Barrels Vineyard\n5000 E Arzberger Rd\nWillcox\, AZ US 85643\nSun February 9\, 2025 | 9:00AM MST
URL:https://winerun5k.com/event/birds-and-barrels-wine-run-5k/
CATEGORIES:Wine Run
ATTACH;FMTTYPE=image/jpeg:https://winerun5k.com/wp-content/uploads/2023/02/Banner-web-192x600-1.jpg
END:VEVENT
BEGIN:VEVENT
DTSTART;VALUE=DATE:20250208
DTEND;VALUE=DATE:20250209
DTSTAMP:20260424T055756
CREATED:20241113T150813Z
LAST-MODIFIED:20241113T150813Z
UID:13704-1738972800-1739059199@winerun5k.com
SUMMARY:Heart of the Desert Wine Run 5k
DESCRIPTION:  \n  \n  \n \n\n\n\n\n\n\n\n\n\n\n\n\n\n\n\n\n\n\n\n\nHeart of the Desert Pistachios & Wines\n7288 Hwy 54/70\nAlamogordo\, NM US 88310\nSat February 8\, 2025 | 9:00AM MST
URL:https://winerun5k.com/event/heart-of-the-desert-wine-run-5k/
CATEGORIES:Wine Run
ATTACH;FMTTYPE=image/jpeg:https://winerun5k.com/wp-content/uploads/2023/02/Banner-web-192x600-1.jpg
END:VEVENT
BEGIN:VEVENT
DTSTART;VALUE=DATE:20241229
DTEND;VALUE=DATE:20241230
DTSTAMP:20260424T055756
CREATED:20241113T150628Z
LAST-MODIFIED:20241113T152715Z
UID:13701-1735430400-1735516799@winerun5k.com
SUMMARY:Masaryk Christmas Wine Run 5k
DESCRIPTION:  \n  \n  \n \n\n\n\n\n\n\n\n\n\n\n\n\n\n\n\n\n\n\n\n\nMasaryk Winery\n19121 Phillips Rd\nMasaryktown\, FL US 34604\nSun December 29\, 2024 | 9:00AM EST
URL:https://winerun5k.com/event/masaryk-christmas-wine-run-5k/
CATEGORIES:Wine Run
ATTACH;FMTTYPE=image/jpeg:https://winerun5k.com/wp-content/uploads/2024/06/banner_web_Dic29_Masaryk.jpg
END:VEVENT
BEGIN:VEVENT
DTSTART;VALUE=DATE:20241228
DTEND;VALUE=DATE:20241229
DTSTAMP:20260424T055756
CREATED:20241113T150506Z
LAST-MODIFIED:20241113T152636Z
UID:13698-1735344000-1735430399@winerun5k.com
SUMMARY:Whispering Oaks Christmas Wine Run 5k
DESCRIPTION:  \n  \n  \n \n\n\n\n\n\n\n\n\n\n\n\n\n\n\n\n\n\n\n\n\nWhispering Oaks Winery\n10934 S Hwy 475\nOxford\, FL US 34484\nSat December 28\, 2024 | 10:00AM EST
URL:https://winerun5k.com/event/whispering-oaks-christmas-wine-run-5k-3/
CATEGORIES:Wine Run
ATTACH;FMTTYPE=image/jpeg:https://winerun5k.com/wp-content/uploads/2024/06/banner_web_Dic28_Whisperingoaks.jpg
END:VEVENT
BEGIN:VEVENT
DTSTART;VALUE=DATE:20241222
DTEND;VALUE=DATE:20241223
DTSTAMP:20260424T055756
CREATED:20241113T150356Z
LAST-MODIFIED:20241113T152622Z
UID:13695-1734825600-1734911999@winerun5k.com
SUMMARY:Keel Farms Christmas Wine Run 5k
DESCRIPTION:  \n  \n  \n \n\n\n\n\n\n\n\n\n\n\n\n\n\n\n\n\n\n\n\n\nKeel and Curley Winery\n5202 Thonotosassa Rd\nPlant City\, FL US 33565\nSat December 21 | 8:30AM EST\nSun December 22\, 2024 | 9:00AM EST
URL:https://winerun5k.com/event/keel-farms-christmas-wine-run-5k-2/
CATEGORIES:Wine Run
ATTACH;FMTTYPE=image/jpeg:https://winerun5k.com/wp-content/uploads/2024/06/banner_web_Dic21_KeelFarms.jpg
END:VEVENT
BEGIN:VEVENT
DTSTART;VALUE=DATE:20241215
DTEND;VALUE=DATE:20241216
DTSTAMP:20260424T055756
CREATED:20241113T150114Z
LAST-MODIFIED:20241113T152610Z
UID:13692-1734220800-1734307199@winerun5k.com
SUMMARY:Aspirations Christmas Wine Run 5k
DESCRIPTION:  \n  \n  \n \n\n\n\n\n\n\n\n\n\n\n\n\n\n\n\n\n\n\n\n\nAspirations Winery\n22041 US Hwy 19 N\nClearwater\, FL US 33765\nSun December 15\, 2024 | 10:00AM EST
URL:https://winerun5k.com/event/aspirations-christmas-wine-run-5k/
CATEGORIES:Wine Run
ATTACH;FMTTYPE=image/jpeg:https://winerun5k.com/wp-content/uploads/2024/06/banner_web_Dic15_Aspirations.jpg
END:VEVENT
BEGIN:VEVENT
DTSTART;VALUE=DATE:20241214
DTEND;VALUE=DATE:20241215
DTSTAMP:20260424T055756
CREATED:20241113T145710Z
LAST-MODIFIED:20241113T152558Z
UID:13689-1734134400-1734220799@winerun5k.com
SUMMARY:Secret Gardens Christmas Wine Run 5k
DESCRIPTION:  \n  \n  \n \n\n\n\n\n\n\n\n\n\n\n\n\n\n\n\n\n\n\n\n\nSecret Gardens Winery & Farm\, Inc.\n8222 W Josephine Rd\nSebring\, FL US 33875\nt December 14\, 2024 | 10:00AM EST
URL:https://winerun5k.com/event/secret-gardens-christmas-wine-run-5k/
CATEGORIES:Wine Run
ATTACH;FMTTYPE=image/jpeg:https://winerun5k.com/wp-content/uploads/2024/06/banner_web_Dic14_SecretGarden.jpg
END:VEVENT
BEGIN:VEVENT
DTSTART;VALUE=DATE:20241208
DTEND;VALUE=DATE:20241209
DTSTAMP:20260424T055756
CREATED:20241113T144919Z
LAST-MODIFIED:20241113T152545Z
UID:13686-1733616000-1733702399@winerun5k.com
SUMMARY:Summer Crush Christmas Wine Run 5k
DESCRIPTION:  \n  \n  \n \n\n\n\n\n\n\n\n\n\n\n\n\n\n\n\n\n\n\n\n\nSummer Crush Vineyard & Winery\n4200 Johnston Rd\nFort Pierce\, FL US 34951\nSun December 8\, 2024 | 8:00AM EST
URL:https://winerun5k.com/event/summer-crush-christmas-wine-run-5k-2/
CATEGORIES:Wine Run
ATTACH;FMTTYPE=image/jpeg:https://winerun5k.com/wp-content/uploads/2024/06/banner_web_Dic8_Summercrush.jpg
END:VEVENT
BEGIN:VEVENT
DTSTART;VALUE=DATE:20241123
DTEND;VALUE=DATE:20241124
DTSTAMP:20260424T055756
CREATED:20241113T144803Z
LAST-MODIFIED:20241113T152532Z
UID:13683-1732320000-1732406399@winerun5k.com
SUMMARY:Cape Fear Wine Run Turkey Trot 5k
DESCRIPTION:  \n  \n  \n \n\n\n\n\n\n\n\n\n\n\n\n\n\n\n\n\n\n\n\n\nCape Fear Vineyard & Winery\n195 Vineyard Dr\nElizabethtown\, NC US 28337\nSat November 23\, 2024 | 9:00AM EST
URL:https://winerun5k.com/event/cape-fear-wine-run-turkey-trot-5k-2/
CATEGORIES:Wine Run
ATTACH;FMTTYPE=image/jpeg:https://winerun5k.com/wp-content/uploads/2024/06/banner_web_Nov23_Cape_Fear-1.jpg
END:VEVENT
BEGIN:VEVENT
DTSTART;VALUE=DATE:20241116
DTEND;VALUE=DATE:20241117
DTSTAMP:20260424T055756
CREATED:20241113T144556Z
LAST-MODIFIED:20241113T152519Z
UID:13680-1731715200-1731801599@winerun5k.com
SUMMARY:Philip Carter Wine Run Turkey Trot 5k
DESCRIPTION:  \n  \n  \n \n\n\n\n\n\n\n\n\n\n\n\n\n\n\n\n\n\n\n\n\nPhilip Carter Winery\n4366 Stillhouse Road\nHume\, VA US 22639\nSat November 16\, 2024 | 10:00AM EST
URL:https://winerun5k.com/event/philip-carter-wine-run-turkey-trot-5k/
CATEGORIES:Wine Run
ATTACH;FMTTYPE=image/jpeg:https://winerun5k.com/wp-content/uploads/2024/06/banner_web_Nov16_Phillip-Carter-1.jpg
END:VEVENT
END:VCALENDAR